BEGIN:VCALENDAR
VERSION:2.0
PRODID:-//Ohana Center - Antelope Valley - ECPv6.15.20//NONSGML v1.0//EN
CALSCALE:GREGORIAN
METHOD:PUBLISH
X-ORIGINAL-URL:https://ohanacenterav.org
X-WR-CALDESC:Events for Ohana Center - Antelope Valley
REFRESH-INTERVAL;VALUE=DURATION:PT1H
X-Robots-Tag:noindex
X-PUBLISHED-TTL:PT1H
BEGIN:VTIMEZONE
TZID:America/Los_Angeles
BEGIN:DAYLIGHT
TZOFFSETFROM:-0800
TZOFFSETTO:-0700
TZNAME:PDT
DTSTART:20240310T100000
END:DAYLIGHT
BEGIN:STANDARD
TZOFFSETFROM:-0700
TZOFFSETTO:-0800
TZNAME:PST
DTSTART:20241103T090000
END:STANDARD
BEGIN:DAYLIGHT
TZOFFSETFROM:-0800
TZOFFSETTO:-0700
TZNAME:PDT
DTSTART:20250309T100000
END:DAYLIGHT
BEGIN:STANDARD
TZOFFSETFROM:-0700
TZOFFSETTO:-0800
TZNAME:PST
DTSTART:20251102T090000
END:STANDARD
BEGIN:DAYLIGHT
TZOFFSETFROM:-0800
TZOFFSETTO:-0700
TZNAME:PDT
DTSTART:20260308T100000
END:DAYLIGHT
BEGIN:STANDARD
TZOFFSETFROM:-0700
TZOFFSETTO:-0800
TZNAME:PST
DTSTART:20261101T090000
END:STANDARD
END:VTIMEZONE
BEGIN:VEVENT
DTSTART;TZID=America/Los_Angeles:20250211T183000
DTEND;TZID=America/Los_Angeles:20250211T193000
DTSTAMP:20260425T173634
CREATED:20250204T202334Z
LAST-MODIFIED:20250204T202334Z
UID:7440-1739298600-1739302200@ohanacenterav.org
SUMMARY:SHARA Virtual Chat Theme: Heart Talk
DESCRIPTION:Join us for SHARA Virtual Wellness Chat: Heart Talk\n\n\nThe first 15 registered SHARA participants to sign in\, and complete the survey will receive a gift card.
URL:https://ohanacenterav.org/event/shara-virtual-chat-theme-heart-talk/
LOCATION:Online Event
ATTACH;FMTTYPE=image/jpeg:https://ohanacenterav.org/wp-content/uploads/2024/08/7386_image_original.jpg
END:VEVENT
END:VCALENDAR