BEGIN:VCALENDAR
VERSION:2.0
PRODID:-//Ohana Center - Antelope Valley - ECPv6.15.20//NONSGML v1.0//EN
CALSCALE:GREGORIAN
METHOD:PUBLISH
X-ORIGINAL-URL:https://ohanacenterav.org
X-WR-CALDESC:Events for Ohana Center - Antelope Valley
REFRESH-INTERVAL;VALUE=DURATION:PT1H
X-Robots-Tag:noindex
X-PUBLISHED-TTL:PT1H
BEGIN:VTIMEZONE
TZID:America/Los_Angeles
BEGIN:DAYLIGHT
TZOFFSETFROM:-0800
TZOFFSETTO:-0700
TZNAME:PDT
DTSTART:20240310T100000
END:DAYLIGHT
BEGIN:STANDARD
TZOFFSETFROM:-0700
TZOFFSETTO:-0800
TZNAME:PST
DTSTART:20241103T090000
END:STANDARD
BEGIN:DAYLIGHT
TZOFFSETFROM:-0800
TZOFFSETTO:-0700
TZNAME:PDT
DTSTART:20250309T100000
END:DAYLIGHT
BEGIN:STANDARD
TZOFFSETFROM:-0700
TZOFFSETTO:-0800
TZNAME:PST
DTSTART:20251102T090000
END:STANDARD
BEGIN:DAYLIGHT
TZOFFSETFROM:-0800
TZOFFSETTO:-0700
TZNAME:PDT
DTSTART:20260308T100000
END:DAYLIGHT
BEGIN:STANDARD
TZOFFSETFROM:-0700
TZOFFSETTO:-0800
TZNAME:PST
DTSTART:20261101T090000
END:STANDARD
END:VTIMEZONE
BEGIN:VEVENT
DTSTART;TZID=America/Los_Angeles:20250311T183000
DTEND;TZID=America/Los_Angeles:20250311T193000
DTSTAMP:20260425T155754
CREATED:20250304T015807Z
LAST-MODIFIED:20250304T015807Z
UID:7496-1741717800-1741721400@ohanacenterav.org
SUMMARY:SHARA Somatic Healing and Deep Breathing
DESCRIPTION:Join us for SHARA Somatic Healing and Deep Breathing\, a transformative online experience to relax\, release tension\, and connect.\n\n\nSHARA Somatic Healing and Deep Breathing \nWelcome to our online Sisters Healing and Rising Through Adversity wellness chat where we will be focus on somatic healing and deep breathing techniques to help you relax and rejuvenate. Join us for a session of guided breathing exercises and gentle movements to release tension and promote overall well-being. Whether you’re new to somatic healing or a seasoned practitioner\, this event is perfect for anyone looking to de-stress and reconnect with their body. Take this opportunity to prioritize your self-care and join us for a transformative experience!
URL:https://ohanacenterav.org/event/shara-somatic-healing-and-deep-breathing/
LOCATION:Online Event
ATTACH;FMTTYPE=image/jpeg:https://ohanacenterav.org/wp-content/uploads/2025/03/7496_image_original.jpg
END:VEVENT
END:VCALENDAR