BEGIN:VCALENDAR
VERSION:2.0
PRODID:-//Ohana Center - Antelope Valley - ECPv6.15.20//NONSGML v1.0//EN
CALSCALE:GREGORIAN
METHOD:PUBLISH
X-WR-CALNAME:Ohana Center - Antelope Valley
X-ORIGINAL-URL:https://ohanacenterav.org
X-WR-CALDESC:Events for Ohana Center - Antelope Valley
REFRESH-INTERVAL;VALUE=DURATION:PT1H
X-Robots-Tag:noindex
X-PUBLISHED-TTL:PT1H
BEGIN:VTIMEZONE
TZID:America/Los_Angeles
BEGIN:DAYLIGHT
TZOFFSETFROM:-0800
TZOFFSETTO:-0700
TZNAME:PDT
DTSTART:20240310T100000
END:DAYLIGHT
BEGIN:STANDARD
TZOFFSETFROM:-0700
TZOFFSETTO:-0800
TZNAME:PST
DTSTART:20241103T090000
END:STANDARD
BEGIN:DAYLIGHT
TZOFFSETFROM:-0800
TZOFFSETTO:-0700
TZNAME:PDT
DTSTART:20250309T100000
END:DAYLIGHT
BEGIN:STANDARD
TZOFFSETFROM:-0700
TZOFFSETTO:-0800
TZNAME:PST
DTSTART:20251102T090000
END:STANDARD
BEGIN:DAYLIGHT
TZOFFSETFROM:-0800
TZOFFSETTO:-0700
TZNAME:PDT
DTSTART:20260308T100000
END:DAYLIGHT
BEGIN:STANDARD
TZOFFSETFROM:-0700
TZOFFSETTO:-0800
TZNAME:PST
DTSTART:20261101T090000
END:STANDARD
END:VTIMEZONE
BEGIN:VEVENT
DTSTART;TZID=America/Los_Angeles:20250325T170000
DTEND;TZID=America/Los_Angeles:20250325T190000
DTSTAMP:20260425T155640
CREATED:20250304T015854Z
LAST-MODIFIED:20250304T015854Z
UID:7500-1742922000-1742929200@ohanacenterav.org
SUMMARY:SHARA Deep Breathing and Yoga
DESCRIPTION:Come join us for SHARA Deep Breathing and Yoga – a relaxing session to unwind and rejuvenate your mind\, body\, and soul!\n\n\nSisters Healing and Rising Through Adversity: \n Deep Breathing and Yoga Worshop \nJoin us for a rejuvenating session of deep breathing and yoga at the Ohana Center! This event is the perfect opportunity to unwind and connect with your body and mind. Whether you’re a seasoned yogi or a beginner\, all levels are welcome. Come breathe\, stretch\, and relax with us in a peaceful and welcoming environment. Don’t miss out on this chance to prioritize your well-being and inner peace. See you there! \n\n Children are welcome but keep in mind. This is your time for self-care realign yourself.
URL:https://ohanacenterav.org/event/shara-deep-breathing-and-yoga/
LOCATION:Ohana Center\, 38700 5th Street West #suite D\, Palmdale\, CA 93550\, Palmdale\, CA\, 93550\, US
ATTACH;FMTTYPE=image/jpeg:https://ohanacenterav.org/wp-content/uploads/2025/03/7500_image_original.jpg
END:VEVENT
END:VCALENDAR