BEGIN:VCALENDAR
VERSION:2.0
PRODID:-//Ohana Center - Antelope Valley - ECPv6.15.20//NONSGML v1.0//EN
CALSCALE:GREGORIAN
METHOD:PUBLISH
X-WR-CALNAME:Ohana Center - Antelope Valley
X-ORIGINAL-URL:https://ohanacenterav.org
X-WR-CALDESC:Events for Ohana Center - Antelope Valley
REFRESH-INTERVAL;VALUE=DURATION:PT1H
X-Robots-Tag:noindex
X-PUBLISHED-TTL:PT1H
BEGIN:VTIMEZONE
TZID:America/Los_Angeles
BEGIN:DAYLIGHT
TZOFFSETFROM:-0800
TZOFFSETTO:-0700
TZNAME:PDT
DTSTART:20240310T100000
END:DAYLIGHT
BEGIN:STANDARD
TZOFFSETFROM:-0700
TZOFFSETTO:-0800
TZNAME:PST
DTSTART:20241103T090000
END:STANDARD
BEGIN:DAYLIGHT
TZOFFSETFROM:-0800
TZOFFSETTO:-0700
TZNAME:PDT
DTSTART:20250309T100000
END:DAYLIGHT
BEGIN:STANDARD
TZOFFSETFROM:-0700
TZOFFSETTO:-0800
TZNAME:PST
DTSTART:20251102T090000
END:STANDARD
BEGIN:DAYLIGHT
TZOFFSETFROM:-0800
TZOFFSETTO:-0700
TZNAME:PDT
DTSTART:20260308T100000
END:DAYLIGHT
BEGIN:STANDARD
TZOFFSETFROM:-0700
TZOFFSETTO:-0800
TZNAME:PST
DTSTART:20261101T090000
END:STANDARD
END:VTIMEZONE
BEGIN:VEVENT
DTSTART;TZID=America/Los_Angeles:20250422T170000
DTEND;TZID=America/Los_Angeles:20250422T183000
DTSTAMP:20260425T142512
CREATED:20250410T022001Z
LAST-MODIFIED:20250410T022001Z
UID:7513-1745341200-1745346600@ohanacenterav.org
SUMMARY:Sister’s Healing and Rising through Adversity wellness walk
DESCRIPTION:Join us for a powerful wellness walk where sisters come together to heal\, rise above challenges\, and support each other along the way.\n\n\nWelcome to the Sister’s Healing and Rising through Adversity “Spring into Action Wellness Walk! Join us at the beautiful Prime Desert Woodland Preserve for a day of healing and empowerment. This event is all about coming together as sisters to support each other through life’s challenges. Let’s walk\, talk\, and uplift each other as we navigate through adversity. Whether you’re seeking healing\, connection\, or simply a peaceful stroll in nature\, this wellness walk is the perfect opportunity to rejuvenate your mind\, body\, and spirit. Don’t miss out on this empowering experience!
URL:https://ohanacenterav.org/event/sisters-healing-and-rising-through-adversity-wellness-walk/
LOCATION:Prime Desert Woodland Preserve\, 43201 35th Street West\, Lancaster\, CA 93536\, Lancaster\, CA\, 93536\, US
ATTACH;FMTTYPE=image/png:https://ohanacenterav.org/wp-content/uploads/2025/04/7513_image.png
END:VEVENT
END:VCALENDAR