BEGIN:VCALENDAR
VERSION:2.0
PRODID:-//Ohana Center - Antelope Valley - ECPv6.15.20//NONSGML v1.0//EN
CALSCALE:GREGORIAN
METHOD:PUBLISH
X-ORIGINAL-URL:https://ohanacenterav.org
X-WR-CALDESC:Events for Ohana Center - Antelope Valley
REFRESH-INTERVAL;VALUE=DURATION:PT1H
X-Robots-Tag:noindex
X-PUBLISHED-TTL:PT1H
BEGIN:VTIMEZONE
TZID:Africa/Abidjan
BEGIN:STANDARD
TZOFFSETFROM:+0000
TZOFFSETTO:+0000
TZNAME:GMT
DTSTART:20240101T000000
END:STANDARD
END:VTIMEZONE
BEGIN:VEVENT
DTSTART;TZID=Africa/Abidjan:20250603T183000
DTEND;TZID=Africa/Abidjan:20250603T193000
DTSTAMP:20260425T071322
CREATED:20250530T162922Z
LAST-MODIFIED:20250602T183820Z
UID:7524-1748975400-1748979000@ohanacenterav.org
SUMMARY:SHARA: Food\, Glorious Food: Letting go of junk food Show and Tell Time
DESCRIPTION:Hey there! Join us for SHARA: Food\, Glorious Food online event where we’ll share tips on letting go of junk food and embracing healthier cho\n\n\nSHARA: Food\, Glorious Food: Letting go of junk food Show and Tell Time \nWelcome to our online event where we will dive into the world of delicious and nutritious food! Join us for a fun and interactive session where we will share tips on how to let go of junk food and embrace healthier eating habits. Get ready to showcase your favorite healthy recipes and learn from others in this Show and Tell event. Let’s come together to celebrate the joy of good food and make positive changes in our lives. See you there! \n\nFirst 15 SHARA Participants to register and complete both surveys will receive a gift card.
URL:https://ohanacenterav.org/event/shara-food-glorious-food-letting-go-of-junk-food-show-and-tell-time/
LOCATION:Online Event
ATTACH;FMTTYPE=image/jpeg:https://ohanacenterav.org/wp-content/uploads/2025/05/IMG_8996.jpeg
END:VEVENT
END:VCALENDAR