BEGIN:VCALENDAR
VERSION:2.0
PRODID:-//Ohana Center - Antelope Valley - ECPv6.15.20//NONSGML v1.0//EN
CALSCALE:GREGORIAN
METHOD:PUBLISH
X-WR-CALNAME:Ohana Center - Antelope Valley
X-ORIGINAL-URL:https://ohanacenterav.org
X-WR-CALDESC:Events for Ohana Center - Antelope Valley
REFRESH-INTERVAL;VALUE=DURATION:PT1H
X-Robots-Tag:noindex
X-PUBLISHED-TTL:PT1H
BEGIN:VTIMEZONE
TZID:Africa/Abidjan
BEGIN:STANDARD
TZOFFSETFROM:+0000
TZOFFSETTO:+0000
TZNAME:GMT
DTSTART:20240101T000000
END:STANDARD
END:VTIMEZONE
BEGIN:VEVENT
DTSTART;TZID=Africa/Abidjan:20250722T173000
DTEND;TZID=Africa/Abidjan:20250722T193000
DTSTAMP:20260425T053706
CREATED:20250708T014536Z
LAST-MODIFIED:20250708T014536Z
UID:7568-1753205400-1753212600@ohanacenterav.org
SUMMARY:Mirror\, Mirror on the Wall SHARA Self-Care Night
DESCRIPTION:Come join us for a night of self-care at Mirror\, Mirror on the Wall SHARA Self-Care Night where we’ll pamper ourselves and focus on self-lov\n\n\nMirror\, Mirror on the Wall SHARA Self-Care Night \nJoin us for a night of pampering and self-care at the Ohana Center! \nSister Healing and Rising Through Adversity has a variety of rejuvenating activities\, from facials to massages\, all designed to help you relax and unwind. Take this opportunity to focus on yourself and treat yourself like the royalty you are! \nDon’t miss out on this chance to prioritize your well-being and leave feeling refreshed and rejuvenated. See you there!
URL:https://ohanacenterav.org/event/mirror-mirror-on-the-wall-shara-self-care-night/
LOCATION:Ohana Center\, 38700 5th Street West #suite D\, Palmdale\, CA 93550\, Palmdale\, CA\, 93550\, US
ATTACH;FMTTYPE=image/jpeg:https://ohanacenterav.org/wp-content/uploads/2025/07/7568_image_original.jpg
END:VEVENT
END:VCALENDAR