BEGIN:VCALENDAR
VERSION:2.0
PRODID:-//Ohana Center - Antelope Valley - ECPv6.15.20//NONSGML v1.0//EN
CALSCALE:GREGORIAN
METHOD:PUBLISH
X-WR-CALNAME:Ohana Center - Antelope Valley
X-ORIGINAL-URL:https://ohanacenterav.org
X-WR-CALDESC:Events for Ohana Center - Antelope Valley
REFRESH-INTERVAL;VALUE=DURATION:PT1H
X-Robots-Tag:noindex
X-PUBLISHED-TTL:PT1H
BEGIN:VTIMEZONE
TZID:America/Los_Angeles
BEGIN:DAYLIGHT
TZOFFSETFROM:-0800
TZOFFSETTO:-0700
TZNAME:PDT
DTSTART:20250309T100000
END:DAYLIGHT
BEGIN:STANDARD
TZOFFSETFROM:-0700
TZOFFSETTO:-0800
TZNAME:PST
DTSTART:20251102T090000
END:STANDARD
BEGIN:DAYLIGHT
TZOFFSETFROM:-0800
TZOFFSETTO:-0700
TZNAME:PDT
DTSTART:20260308T100000
END:DAYLIGHT
BEGIN:STANDARD
TZOFFSETFROM:-0700
TZOFFSETTO:-0800
TZNAME:PST
DTSTART:20261101T090000
END:STANDARD
BEGIN:DAYLIGHT
TZOFFSETFROM:-0800
TZOFFSETTO:-0700
TZNAME:PDT
DTSTART:20270314T100000
END:DAYLIGHT
BEGIN:STANDARD
TZOFFSETFROM:-0700
TZOFFSETTO:-0800
TZNAME:PST
DTSTART:20271107T090000
END:STANDARD
END:VTIMEZONE
BEGIN:VEVENT
DTSTART;VALUE=DATE:20260219
DTEND;VALUE=DATE:20260220
DTSTAMP:20260424T175314
CREATED:20260106T164759Z
LAST-MODIFIED:20260205T184527Z
UID:7639-1771459200-1771545599@ohanacenterav.org
SUMMARY:Volunteer for Antelope Valley Free Adaptive Sports Program
DESCRIPTION:Recruit volunteers for antelope Valley only free adaptive sports program starting in March 2026\n\n(Soccer\, Kickball\, Basketball)\n\n\nLink to register to volunteer  https://form-usa.keela.co/ohana-volunteer-contact-list\n\n\n\nAthlete support\nCoaches and instructors\nMedical safety support\nProgram and event support\nCommunity and outreach support
URL:https://ohanacenterav.org/event/volunteer-for-antelope-valley-free-adaptive-sports-program-6/
LOCATION:Virtual Event
END:VEVENT
BEGIN:VEVENT
DTSTART;TZID=America/Los_Angeles:20260219T100000
DTEND;TZID=America/Los_Angeles:20260219T120000
DTSTAMP:20260424T175314
CREATED:20260205T184725Z
LAST-MODIFIED:20260205T184725Z
UID:7664-1771495200-1771502400@ohanacenterav.org
SUMMARY:TEACH program Sports Clinic
DESCRIPTION:In person Sign ups\n10:00 AM – 12:00 PM\nLocation: Ohana Center\n38700 5th St. West\nSuite D\nPalmdale CA 93535
URL:https://ohanacenterav.org/event/teach-program-sports-clinic-19/
LOCATION:Ohana Center\, 38700 5th Street West #suite D\, Palmdale\, CA 93550\, Palmdale\, CA\, 93550\, US
ATTACH;FMTTYPE=image/jpeg:https://ohanacenterav.org/wp-content/uploads/2026/01/IMG_0018.jpeg
END:VEVENT
BEGIN:VEVENT
DTSTART;TZID=America/Los_Angeles:20260219T100000
DTEND;TZID=America/Los_Angeles:20260219T120000
DTSTAMP:20260424T175314
CREATED:20260205T185652Z
LAST-MODIFIED:20260205T185652Z
UID:7675-1771495200-1771502400@ohanacenterav.org
SUMMARY:Family Focus Center
DESCRIPTION:Family Focus Center\nLocation: Ohana Center\n38700 5th St. West\nSuite D\nPalmdale CA 93551
URL:https://ohanacenterav.org/event/family-focus-center-19/
LOCATION:Ohana Center\, 38700 5th Street West #suite D\, Palmdale\, CA 93550\, Palmdale\, CA\, 93550\, US
ATTACH;FMTTYPE=image/jpeg:https://ohanacenterav.org/wp-content/uploads/2026/02/IMG_0015.jpeg
END:VEVENT
BEGIN:VEVENT
DTSTART;TZID=America/Los_Angeles:20260219T100000
DTEND;TZID=America/Los_Angeles:20260219T120000
DTSTAMP:20260424T175314
CREATED:20260205T190423Z
LAST-MODIFIED:20260205T190423Z
UID:7684-1771495200-1771502400@ohanacenterav.org
SUMMARY:Centro de Atención Familiar
DESCRIPTION:Centro de Atención Familiar\nUbicación: Ohana Center\n38700 5th St. West\nSuite D\nPalmdale CA 93551
URL:https://ohanacenterav.org/event/centro-de-atencion-familiar-19/
LOCATION:Ohana Center\, 38700 5th Street West #suite D\, Palmdale\, CA 93550\, Palmdale\, CA\, 93550\, US
ATTACH;FMTTYPE=image/jpeg:https://ohanacenterav.org/wp-content/uploads/2026/02/IMG_0016.jpeg
END:VEVENT
BEGIN:VEVENT
DTSTART;TZID=America/Los_Angeles:20260219T173000
DTEND;TZID=America/Los_Angeles:20260219T200000
DTSTAMP:20260424T175314
CREATED:20260205T190911Z
LAST-MODIFIED:20260205T190911Z
UID:7688-1771522200-1771531200@ohanacenterav.org
SUMMARY:“Rise\, Sister\, Rise” Private Event
DESCRIPTION:In person 5:30 – 8:00 PM\n(private event)\n\nShe healed. She grew. She rose.\n\n📸 Come picture ready!\n\nThis is a moment worth remembering.
URL:https://ohanacenterav.org/event/rise-sister-rise-private-event/
LOCATION:PA
END:VEVENT
END:VCALENDAR