BEGIN:VCALENDAR
VERSION:2.0
PRODID:-//Ohana Center - Antelope Valley - ECPv6.15.20//NONSGML v1.0//EN
CALSCALE:GREGORIAN
METHOD:PUBLISH
X-WR-CALNAME:Ohana Center - Antelope Valley
X-ORIGINAL-URL:https://ohanacenterav.org
X-WR-CALDESC:Events for Ohana Center - Antelope Valley
REFRESH-INTERVAL;VALUE=DURATION:PT1H
X-Robots-Tag:noindex
X-PUBLISHED-TTL:PT1H
BEGIN:VTIMEZONE
TZID:America/Los_Angeles
BEGIN:DAYLIGHT
TZOFFSETFROM:-0800
TZOFFSETTO:-0700
TZNAME:PDT
DTSTART:20250309T100000
END:DAYLIGHT
BEGIN:STANDARD
TZOFFSETFROM:-0700
TZOFFSETTO:-0800
TZNAME:PST
DTSTART:20251102T090000
END:STANDARD
BEGIN:DAYLIGHT
TZOFFSETFROM:-0800
TZOFFSETTO:-0700
TZNAME:PDT
DTSTART:20260308T100000
END:DAYLIGHT
BEGIN:STANDARD
TZOFFSETFROM:-0700
TZOFFSETTO:-0800
TZNAME:PST
DTSTART:20261101T090000
END:STANDARD
BEGIN:DAYLIGHT
TZOFFSETFROM:-0800
TZOFFSETTO:-0700
TZNAME:PDT
DTSTART:20270314T100000
END:DAYLIGHT
BEGIN:STANDARD
TZOFFSETFROM:-0700
TZOFFSETTO:-0800
TZNAME:PST
DTSTART:20271107T090000
END:STANDARD
END:VTIMEZONE
BEGIN:VTIMEZONE
TZID:Africa/Abidjan
BEGIN:STANDARD
TZOFFSETFROM:+0000
TZOFFSETTO:+0000
TZNAME:GMT
DTSTART:20250101T000000
END:STANDARD
END:VTIMEZONE
BEGIN:VEVENT
DTSTART;TZID=America/Los_Angeles:20260305T100000
DTEND;TZID=America/Los_Angeles:20260305T120000
DTSTAMP:20260424T160229
CREATED:20260303T125228Z
LAST-MODIFIED:20260303T125228Z
UID:7700-1772704800-1772712000@ohanacenterav.org
SUMMARY:Community Navigator
DESCRIPTION:Family Focus Center
URL:https://ohanacenterav.org/event/community-navigator/
LOCATION:Ohana Center\, 38700 5th Street West #suite D\, Palmdale\, CA 93550\, Palmdale\, CA\, 93550\, US
ATTACH;FMTTYPE=image/jpeg:https://ohanacenterav.org/wp-content/uploads/2026/03/IMG_0015-1.jpeg
END:VEVENT
BEGIN:VEVENT
DTSTART;TZID=Africa/Abidjan:20260305T183000
DTEND;TZID=Africa/Abidjan:20260305T193000
DTSTAMP:20260424T160229
CREATED:20260303T124348Z
LAST-MODIFIED:20260303T124348Z
UID:7694-1772735400-1772739000@ohanacenterav.org
SUMMARY:Sister’s Healing and Rising Through Adversity: Cohort two
DESCRIPTION:Join our online squad as we heal\, grow\, and rise stronger together in Sister’s Healing & Rising Cohort Two!\n\n\nWelcome to Sister’s Healing and Rising through Adversity Cohort Two!\nJoin us online for a powerful journey where healing meets strength. This cohort is all about lifting each other up and navigating life’s challenges with heart and resilience. Whether you’re looking to connect\, grow\, or just find some peace\, this is the space for you. Let’s rise together and turn adversity into triumph!
URL:https://ohanacenterav.org/event/sisters-healing-and-rising-through-adversity-cohort-two/
LOCATION:Online Event
ATTACH;FMTTYPE=image/jpeg:https://ohanacenterav.org/wp-content/uploads/2026/03/7694_image.jpg
END:VEVENT
END:VCALENDAR