BEGIN:VCALENDAR
VERSION:2.0
PRODID:-//Ohana Center - Antelope Valley - ECPv6.15.20//NONSGML v1.0//EN
CALSCALE:GREGORIAN
METHOD:PUBLISH
X-WR-CALNAME:Ohana Center - Antelope Valley
X-ORIGINAL-URL:https://ohanacenterav.org
X-WR-CALDESC:Events for Ohana Center - Antelope Valley
REFRESH-INTERVAL;VALUE=DURATION:PT1H
X-Robots-Tag:noindex
X-PUBLISHED-TTL:PT1H
BEGIN:VTIMEZONE
TZID:America/Los_Angeles
BEGIN:DAYLIGHT
TZOFFSETFROM:-0800
TZOFFSETTO:-0700
TZNAME:PDT
DTSTART:20250309T100000
END:DAYLIGHT
BEGIN:STANDARD
TZOFFSETFROM:-0700
TZOFFSETTO:-0800
TZNAME:PST
DTSTART:20251102T090000
END:STANDARD
BEGIN:DAYLIGHT
TZOFFSETFROM:-0800
TZOFFSETTO:-0700
TZNAME:PDT
DTSTART:20260308T100000
END:DAYLIGHT
BEGIN:STANDARD
TZOFFSETFROM:-0700
TZOFFSETTO:-0800
TZNAME:PST
DTSTART:20261101T090000
END:STANDARD
BEGIN:DAYLIGHT
TZOFFSETFROM:-0800
TZOFFSETTO:-0700
TZNAME:PDT
DTSTART:20270314T100000
END:DAYLIGHT
BEGIN:STANDARD
TZOFFSETFROM:-0700
TZOFFSETTO:-0800
TZNAME:PST
DTSTART:20271107T090000
END:STANDARD
END:VTIMEZONE
BEGIN:VEVENT
DTSTART;TZID=America/Los_Angeles:20260407T100000
DTEND;TZID=America/Los_Angeles:20260407T140000
DTSTAMP:20260424T142535
CREATED:20260409T121331Z
LAST-MODIFIED:20260409T121331Z
UID:7719-1775556000-1775570400@ohanacenterav.org
SUMMARY:Cedars Training @ Ohana
DESCRIPTION:
URL:https://ohanacenterav.org/event/cedars-training-ohana/
LOCATION:PA
ATTACH;FMTTYPE=image/jpeg:https://ohanacenterav.org/wp-content/uploads/2026/04/2566923894254373441.jpg
END:VEVENT
BEGIN:VEVENT
DTSTART;TZID=America/Los_Angeles:20260407T183000
DTEND;TZID=America/Los_Angeles:20260407T193000
DTSTAMP:20260424T142535
CREATED:20260409T122457Z
LAST-MODIFIED:20260409T122457Z
UID:7722-1775586600-1775590200@ohanacenterav.org
SUMMARY:AV Best Start @ Ohana
DESCRIPTION:
URL:https://ohanacenterav.org/event/av-best-start-ohana/
LOCATION:Ohana Center\, 38700 5th Street West #suite D\, Palmdale\, CA 93550\, Palmdale\, CA\, 93550\, US
ATTACH;FMTTYPE=image/jpeg:https://ohanacenterav.org/wp-content/uploads/2026/04/IMG_1066.jpeg
END:VEVENT
END:VCALENDAR