BEGIN:VCALENDAR
VERSION:2.0
PRODID:-//Ohana Center - Antelope Valley - ECPv6.15.20//NONSGML v1.0//EN
CALSCALE:GREGORIAN
METHOD:PUBLISH
X-WR-CALNAME:Ohana Center - Antelope Valley
X-ORIGINAL-URL:https://ohanacenterav.org
X-WR-CALDESC:Events for Ohana Center - Antelope Valley
REFRESH-INTERVAL;VALUE=DURATION:PT1H
X-Robots-Tag:noindex
X-PUBLISHED-TTL:PT1H
BEGIN:VTIMEZONE
TZID:America/Los_Angeles
BEGIN:DAYLIGHT
TZOFFSETFROM:-0800
TZOFFSETTO:-0700
TZNAME:PDT
DTSTART:20240310T100000
END:DAYLIGHT
BEGIN:STANDARD
TZOFFSETFROM:-0700
TZOFFSETTO:-0800
TZNAME:PST
DTSTART:20241103T090000
END:STANDARD
BEGIN:DAYLIGHT
TZOFFSETFROM:-0800
TZOFFSETTO:-0700
TZNAME:PDT
DTSTART:20250309T100000
END:DAYLIGHT
BEGIN:STANDARD
TZOFFSETFROM:-0700
TZOFFSETTO:-0800
TZNAME:PST
DTSTART:20251102T090000
END:STANDARD
BEGIN:DAYLIGHT
TZOFFSETFROM:-0800
TZOFFSETTO:-0700
TZNAME:PDT
DTSTART:20260308T100000
END:DAYLIGHT
BEGIN:STANDARD
TZOFFSETFROM:-0700
TZOFFSETTO:-0800
TZNAME:PST
DTSTART:20261101T090000
END:STANDARD
BEGIN:DAYLIGHT
TZOFFSETFROM:-0800
TZOFFSETTO:-0700
TZNAME:PDT
DTSTART:20270314T100000
END:DAYLIGHT
BEGIN:STANDARD
TZOFFSETFROM:-0700
TZOFFSETTO:-0800
TZNAME:PST
DTSTART:20271107T090000
END:STANDARD
END:VTIMEZONE
BEGIN:VTIMEZONE
TZID:Africa/Abidjan
BEGIN:STANDARD
TZOFFSETFROM:+0000
TZOFFSETTO:+0000
TZNAME:GMT
DTSTART:20240101T000000
END:STANDARD
END:VTIMEZONE
BEGIN:VEVENT
DTSTART;TZID=America/Los_Angeles:20250812T150000
DTEND;TZID=America/Los_Angeles:20250812T160000
DTSTAMP:20260425T084744
CREATED:20250811T224241Z
LAST-MODIFIED:20250811T224241Z
UID:7578-1755010800-1755014400@ohanacenterav.org
SUMMARY:UCI Transportation Survey
DESCRIPTION:
URL:https://ohanacenterav.org/event/uci-transportation-survey/
LOCATION:Virtual Event
ATTACH;FMTTYPE=image/jpeg:https://ohanacenterav.org/wp-content/uploads/2025/08/IMG_0190.jpeg
END:VEVENT
BEGIN:VEVENT
DTSTART;TZID=America/Los_Angeles:20250812T183000
DTEND;TZID=America/Los_Angeles:20250812T193000
DTSTAMP:20260425T084744
CREATED:20250811T225450Z
LAST-MODIFIED:20250811T225808Z
UID:7589-1755023400-1755027000@ohanacenterav.org
SUMMARY:Entrepreneur 3 Week Boot Camp
DESCRIPTION:Topic: Strategy & Structure
URL:https://ohanacenterav.org/event/entrepreneur-3-week-boot-camp-2/
LOCATION:PA
ATTACH;FMTTYPE=image/jpeg:https://ohanacenterav.org/wp-content/uploads/2025/08/IMG_0188.jpg
END:VEVENT
BEGIN:VEVENT
DTSTART;TZID=America/Los_Angeles:20250813T150000
DTEND;TZID=America/Los_Angeles:20250813T160000
DTSTAMP:20260425T084744
CREATED:20250811T224418Z
LAST-MODIFIED:20250811T224418Z
UID:7583-1755097200-1755100800@ohanacenterav.org
SUMMARY:UCI Transportation Survey
DESCRIPTION:
URL:https://ohanacenterav.org/event/uci-transportation-survey-2/
LOCATION:Virtual Event
ATTACH;FMTTYPE=image/jpeg:https://ohanacenterav.org/wp-content/uploads/2025/08/IMG_0190.jpeg
END:VEVENT
BEGIN:VEVENT
DTSTART;TZID=America/Los_Angeles:20250819T173000
DTEND;TZID=America/Los_Angeles:20250819T193000
DTSTAMP:20260425T084744
CREATED:20250811T224903Z
LAST-MODIFIED:20250811T224903Z
UID:7585-1755624600-1755631800@ohanacenterav.org
SUMMARY:Entrepreneur 3 Week Book Camp
DESCRIPTION:Topic: Execution & PPlanning & Self-Assessment \n  \n 
URL:https://ohanacenterav.org/event/entrepreneur-3-week-book-camp/
LOCATION:Ohana Center\, 38700 5th Street West #suite D\, Palmdale\, CA 93550\, Palmdale\, CA\, 93550\, US
ATTACH;FMTTYPE=image/jpeg:https://ohanacenterav.org/wp-content/uploads/2025/08/IMG_0187.jpg
END:VEVENT
BEGIN:VEVENT
DTSTART;TZID=America/Los_Angeles:20250830T110000
DTEND;TZID=America/Los_Angeles:20250830T140000
DTSTAMP:20260425T084744
CREATED:20250708T010352Z
LAST-MODIFIED:20250811T223651Z
UID:7565-1756551600-1756562400@ohanacenterav.org
SUMMARY:4th Annual Community Baby Shower
DESCRIPTION:Participant and vendor registration has ended for Baby Shower.
URL:https://ohanacenterav.org/event/4th-annual-community-baby-shower/
LOCATION:Ohana Center\, 38700 5th Street West #suite D\, Palmdale\, CA 93550\, Palmdale\, CA\, 93550\, US
ATTACH;FMTTYPE=image/jpeg:https://ohanacenterav.org/wp-content/uploads/2025/07/Sketch.jpg
END:VEVENT
BEGIN:VEVENT
DTSTART;TZID=Africa/Abidjan:20250909T183000
DTEND;TZID=Africa/Abidjan:20250909T193000
DTSTAMP:20260425T084744
CREATED:20250909T113650Z
LAST-MODIFIED:20250909T114339Z
UID:7596-1757442600-1757446200@ohanacenterav.org
SUMMARY:SHARA Virtual Chat Tax Education Part 1
DESCRIPTION:Join us for SHARA Virtual Chat Tax Education Part 1\, where we’ll break down tax topics with Christina from TaxTackTics!\n\n\nWelcome to SHARA Virtual Chat Tax Education Part 1! Join us online for an interactive session where you can learn all about taxes. Our knowledgeable expert Christina\, will cover everything you need to know about taxes\, from the basics to business topics. Whether you’re a tax newbie or looking to expand your knowledge\, this event is perfect for anyone interested in learning more about taxes. Don’t miss out on this opportunity to chat with fellow tax enthusiasts and get all your questions answered. See you there!
URL:https://ohanacenterav.org/event/shara-virtual-chat-tax-education-part-1/
LOCATION:Online Event
ATTACH;FMTTYPE=image/png:https://ohanacenterav.org/wp-content/uploads/2025/09/7596_image.png
END:VEVENT
BEGIN:VEVENT
DTSTART;TZID=America/Los_Angeles:20250911T100000
DTEND;TZID=America/Los_Angeles:20250911T120000
DTSTAMP:20260425T084744
CREATED:20250909T114848Z
LAST-MODIFIED:20250909T114848Z
UID:7600-1757584800-1757592000@ohanacenterav.org
SUMMARY:Ohana Center / Family Focus Resource Center Community Navigator Meet and Greet
DESCRIPTION:
URL:https://ohanacenterav.org/event/ohana-center-family-focus-resource-center-community-navigator-meet-and-greet/
LOCATION:Ohana Center\, 38700 5th Street West #suite D\, Palmdale\, CA 93550\, Palmdale\, CA\, 93550\, US
ATTACH;FMTTYPE=image/jpeg:https://ohanacenterav.org/wp-content/uploads/2025/09/IMG_0595.jpg
END:VEVENT
BEGIN:VEVENT
DTSTART;TZID=America/Los_Angeles:20250923T173000
DTEND;TZID=America/Los_Angeles:20250923T193000
DTSTAMP:20260425T084744
CREATED:20250909T120042Z
LAST-MODIFIED:20250909T120326Z
UID:7603-1758648600-1758655800@ohanacenterav.org
SUMMARY:SHARA Tax Education Series - Part 2
DESCRIPTION:
URL:https://ohanacenterav.org/event/shara-ax-education-series-part-2/
LOCATION:Ohana Center\, 38700 5th Street West #suite D\, Palmdale\, CA 93550\, Palmdale\, CA\, 93550\, US
ATTACH;FMTTYPE=image/jpeg:https://ohanacenterav.org/wp-content/uploads/2025/09/IMG_0601.jpg
END:VEVENT
BEGIN:VEVENT
DTSTART;TZID=America/Los_Angeles:20251025T110000
DTEND;TZID=America/Los_Angeles:20251025T140000
DTSTAMP:20260425T084744
CREATED:20250909T120722Z
LAST-MODIFIED:20250930T112921Z
UID:7608-1761390000-1761400800@ohanacenterav.org
SUMMARY:Wellness Jubilee: Open House & Ribbon Cutting
DESCRIPTION:https://ohanacenterav.org/wp-content/uploads/2025/09/MCLA_MakeitMatter_ENG30.mp4
URL:https://ohanacenterav.org/event/wellness-jubilee-open-house-ribbon-cutting/
LOCATION:Ohana Center\, 38700 5th Street West #suite D\, Palmdale\, CA 93550\, Palmdale\, CA\, 93550\, US
ATTACH;FMTTYPE=image/png:https://ohanacenterav.org/wp-content/uploads/2025/09/Ohana-Center-Open-House-Newspaper-Post-1-1.png
END:VEVENT
BEGIN:VEVENT
DTSTART;VALUE=DATE:20260108
DTEND;VALUE=DATE:20260109
DTSTAMP:20260425T084744
CREATED:20260106T164355Z
LAST-MODIFIED:20260106T164355Z
UID:7629-1767830400-1767916799@ohanacenterav.org
SUMMARY:Volunteer for Antelope Valley Free Adaptive Sports Program
DESCRIPTION:Recruit volunteers for antelope Valley only free adaptive sports program starting in March 2026\n\n(Soccer\, Kickball\, Basketball)\n\nLink to register to volunteer  https://form-usa.keela.co/ohana-volunteer-contact-list\n\n\nAthlete support\nCoaches and instructors\nMedical safety support\nProgram and event support\nCommunity and outreach support
URL:https://ohanacenterav.org/event/volunteer-for-antelope-valley-free-adaptive-sports-program/
LOCATION:Virtual Event
END:VEVENT
BEGIN:VEVENT
DTSTART;TZID=Africa/Abidjan:20260108T183000
DTEND;TZID=Africa/Abidjan:20260108T193000
DTSTAMP:20260425T084744
CREATED:20260106T163556Z
LAST-MODIFIED:20260106T163556Z
UID:7624-1767897000-1767900600@ohanacenterav.org
SUMMARY:Sisters healing\, and rising through adversity : “ reclaiming your crown”
DESCRIPTION:Join us online to heal\, rise\, and reclaim your crown—sisters uplifting sisters through every struggle.\n\n\nSisters healing\, and rising through adversity : “reclaiming your crown”\nJoin us for an empowering online event where sisters come together to heal\, grow\, and rise above life’s challenges. It’s all about reclaiming your crown—finding your strength\, embracing your journey\, and shining brighter than ever. Get ready to connect\, uplift\, and celebrate your true power!
URL:https://ohanacenterav.org/event/sisters-healing-and-rising-through-adversity-reclaiming-your-crown/
LOCATION:Online Event
ATTACH;FMTTYPE=image/png:https://ohanacenterav.org/wp-content/uploads/2026/01/7624_image.png
END:VEVENT
BEGIN:VEVENT
DTSTART;VALUE=DATE:20260113
DTEND;VALUE=DATE:20260114
DTSTAMP:20260425T084744
CREATED:20260109T131512Z
LAST-MODIFIED:20260109T131512Z
UID:7643-1768262400-1768348799@ohanacenterav.org
SUMMARY:Best Start AV Childcare Business Curriculum Training - Modules 1 & 2
DESCRIPTION:For more information Email ohanacenterav@gmail.com
URL:https://ohanacenterav.org/event/best-start-av-childcare-business-curriculum-training-modules-1-2/
LOCATION:Virtual Event
END:VEVENT
BEGIN:VEVENT
DTSTART;VALUE=DATE:20260115
DTEND;VALUE=DATE:20260116
DTSTAMP:20260425T084744
CREATED:20260106T164453Z
LAST-MODIFIED:20260106T164453Z
UID:7631-1768435200-1768521599@ohanacenterav.org
SUMMARY:Volunteer for Antelope Valley Free Adaptive Sports Program
DESCRIPTION:Recruit volunteers for antelope Valley only free adaptive sports program starting in March 2026\n\n(Soccer\, Kickball\, Basketball)\n\nLink to register to volunteer  https://form-usa.keela.co/ohana-volunteer-contact-list\n\n\nAthlete support\nCoaches and instructors\nMedical safety support\nProgram and event support\nCommunity and outreach support
URL:https://ohanacenterav.org/event/volunteer-for-antelope-valley-free-adaptive-sports-program-2/
LOCATION:Virtual Event
END:VEVENT
BEGIN:VEVENT
DTSTART;VALUE=DATE:20260115
DTEND;VALUE=DATE:20260116
DTSTAMP:20260425T084744
CREATED:20260109T131711Z
LAST-MODIFIED:20260109T131711Z
UID:7645-1768435200-1768521599@ohanacenterav.org
SUMMARY:Best Start AV Childcare Business Curriculum Training - Modules 3 & 4
DESCRIPTION:For more information Email Ohanacenterav@gmail.com
URL:https://ohanacenterav.org/event/best-start-av-childcare-business-curriculum-training-modules-3-4/
LOCATION:PA
END:VEVENT
BEGIN:VEVENT
DTSTART;VALUE=DATE:20260120
DTEND;VALUE=DATE:20260121
DTSTAMP:20260425T084744
CREATED:20260109T131900Z
LAST-MODIFIED:20260109T131900Z
UID:7647-1768867200-1768953599@ohanacenterav.org
SUMMARY:Best Start AV Childcare Business Curriculum Training - Module 5
DESCRIPTION:For more information Email Ohanacenterav@gmail.com
URL:https://ohanacenterav.org/event/best-start-av-childcare-business-curriculum-training-module-5/
LOCATION:PA
END:VEVENT
BEGIN:VEVENT
DTSTART;VALUE=DATE:20260122
DTEND;VALUE=DATE:20260123
DTSTAMP:20260425T084744
CREATED:20260106T164521Z
LAST-MODIFIED:20260106T164521Z
UID:7633-1769040000-1769126399@ohanacenterav.org
SUMMARY:Volunteer for Antelope Valley Free Adaptive Sports Program
DESCRIPTION:Recruit volunteers for antelope Valley only free adaptive sports program starting in March 2026\n\n(Soccer\, Kickball\, Basketball)\n\nLink to register to volunteer  https://form-usa.keela.co/ohana-volunteer-contact-list\n\n\nAthlete support\nCoaches and instructors\nMedical safety support\nProgram and event support\nCommunity and outreach support
URL:https://ohanacenterav.org/event/volunteer-for-antelope-valley-free-adaptive-sports-program-3/
LOCATION:Virtual Event
END:VEVENT
BEGIN:VEVENT
DTSTART;VALUE=DATE:20260122
DTEND;VALUE=DATE:20260123
DTSTAMP:20260425T084744
CREATED:20260109T132044Z
LAST-MODIFIED:20260109T132044Z
UID:7649-1769040000-1769126399@ohanacenterav.org
SUMMARY:Best Start AV Childcare Business Curriculum Training – Modules 8 & 9
DESCRIPTION:
URL:https://ohanacenterav.org/event/best-start-av-childcare-business-curriculum-training-modules-8-9/
LOCATION:PA
END:VEVENT
BEGIN:VEVENT
DTSTART;TZID=America/Los_Angeles:20260122T173000
DTEND;TZID=America/Los_Angeles:20260122T193000
DTSTAMP:20260425T084744
CREATED:20260106T164013Z
LAST-MODIFIED:20260106T164013Z
UID:7627-1769103000-1769110200@ohanacenterav.org
SUMMARY:Sisters healing\, and rising through adversity : “ reclaiming your crown”
DESCRIPTION:In Person Event\n\nTopic: Reclaiming Your Crown: Identity\, Boundaries & Becoming\n\nFacilitator: Candace Reece /  Founder of Reclaim Your Crown | Kandake Living Inc.
URL:https://ohanacenterav.org/event/sisters-healing-and-rising-through-adversity-reclaiming-your-crown-2/
LOCATION:Ohana Center\, 38700 5th Street West #suite D\, Palmdale\, CA 93550\, Palmdale\, CA\, 93550\, US
END:VEVENT
BEGIN:VEVENT
DTSTART;VALUE=DATE:20260127
DTEND;VALUE=DATE:20260128
DTSTAMP:20260425T084744
CREATED:20260109T132325Z
LAST-MODIFIED:20260109T132325Z
UID:7651-1769472000-1769558399@ohanacenterav.org
SUMMARY:Best Start AV Childcare Business Curriculum Training – Modules 6 & 7
DESCRIPTION:For more information Email Ohanacenterav@gmail.com
URL:https://ohanacenterav.org/event/best-start-av-childcare-business-curriculum-training-modules-6-7/
LOCATION:PA
END:VEVENT
BEGIN:VEVENT
DTSTART;VALUE=DATE:20260129
DTEND;VALUE=DATE:20260130
DTSTAMP:20260425T084744
CREATED:20260106T164557Z
LAST-MODIFIED:20260106T164557Z
UID:7635-1769644800-1769731199@ohanacenterav.org
SUMMARY:Volunteer for Antelope Valley Free Adaptive Sports Program
DESCRIPTION:Recruit volunteers for antelope Valley only free adaptive sports program starting in March 2026\n\n(Soccer\, Kickball\, Basketball)\n\n\nLink to register to volunteer  https://form-usa.keela.co/ohana-volunteer-contact-list\n\n\n\nAthlete support\nCoaches and instructors\nMedical safety support\nProgram and event support\nCommunity and outreach support
URL:https://ohanacenterav.org/event/volunteer-for-antelope-valley-free-adaptive-sports-program-4/
LOCATION:Virtual Event
END:VEVENT
BEGIN:VEVENT
DTSTART;TZID=America/Los_Angeles:20260205T100000
DTEND;TZID=America/Los_Angeles:20260205T120000
DTSTAMP:20260425T084744
CREATED:20260205T184100Z
LAST-MODIFIED:20260205T184415Z
UID:7658-1770285600-1770292800@ohanacenterav.org
SUMMARY:TEACH program Sports Clinic
DESCRIPTION:In person Sign ups\n10:00 AM – 12:00 PM\nLocation: Ohana Center\n38700 5th St. West\nSuite D\nPalmdale CA 93535
URL:https://ohanacenterav.org/event/teach-program-sports-clinic-5/
LOCATION:Ohana Center\, 38700 5th Street West #suite D\, Palmdale\, CA 93550\, Palmdale\, CA\, 93550\, US
ATTACH;FMTTYPE=image/jpeg:https://ohanacenterav.org/wp-content/uploads/2026/01/IMG_0018.jpeg
END:VEVENT
BEGIN:VEVENT
DTSTART;TZID=America/Los_Angeles:20260205T100000
DTEND;TZID=America/Los_Angeles:20260205T120000
DTSTAMP:20260425T084744
CREATED:20260205T185431Z
LAST-MODIFIED:20260205T185431Z
UID:7671-1770285600-1770292800@ohanacenterav.org
SUMMARY:Family Focus Center
DESCRIPTION:Family Focus Center\nLocation: Ohana Center\n38700 5th St. West\nSuite D\nPalmdale CA 93551
URL:https://ohanacenterav.org/event/family-focus-center-5/
LOCATION:Ohana Center\, 38700 5th Street West #suite D\, Palmdale\, CA 93550\, Palmdale\, CA\, 93550\, US
ATTACH;FMTTYPE=image/jpeg:https://ohanacenterav.org/wp-content/uploads/2026/02/IMG_0015.jpeg
END:VEVENT
BEGIN:VEVENT
DTSTART;TZID=America/Los_Angeles:20260205T100000
DTEND;TZID=America/Los_Angeles:20260205T120000
DTSTAMP:20260425T084744
CREATED:20260205T190215Z
LAST-MODIFIED:20260205T190215Z
UID:7679-1770285600-1770292800@ohanacenterav.org
SUMMARY:Centro de Atención Familiar
DESCRIPTION:Centro de Atención Familiar\nUbicación: Ohana Center\n38700 5th St. West\nSuite D\nPalmdale CA 93551
URL:https://ohanacenterav.org/event/centro-de-atencion-familiar-5/
LOCATION:Ohana Center\, 38700 5th Street West #suite D\, Palmdale\, CA 93550\, Palmdale\, CA\, 93550\, US
ATTACH;FMTTYPE=image/jpeg:https://ohanacenterav.org/wp-content/uploads/2026/02/IMG_0016.jpeg
END:VEVENT
BEGIN:VEVENT
DTSTART;TZID=Africa/Abidjan:20260205T183000
DTEND;TZID=Africa/Abidjan:20260205T193000
DTSTAMP:20260425T084744
CREATED:20260205T183735Z
LAST-MODIFIED:20260205T185120Z
UID:7654-1770316200-1770319800@ohanacenterav.org
SUMMARY:Sisters Healing\, and Rising Through Adversity virtual chat
DESCRIPTION:Join us online to share stories\, support each other\, and rise stronger through life’s tough times together!\n\n\nSisters Healing\, and Rising Through Adversity Virtual Chat\nJoin us online for an uplifting virtual chat where amazing sisters come together to share stories\, support\, and inspire each other through tough times. This is your space to connect\, heal\, and rise above challenges with a powerful community by your side. Don’t miss out on this empowering experience designed to uplift your spirit and strengthen your journey. \n  \nGuest speaker: Estefania with cedar Sinai
URL:https://ohanacenterav.org/event/sisters-healing-and-rising-through-adversity-virtual-chat/
LOCATION:Online Event
ATTACH;FMTTYPE=image/jpeg:https://ohanacenterav.org/wp-content/uploads/2026/02/7654_image_original.jpg
END:VEVENT
BEGIN:VEVENT
DTSTART;VALUE=DATE:20260212
DTEND;VALUE=DATE:20260213
DTSTAMP:20260425T084744
CREATED:20260106T164638Z
LAST-MODIFIED:20260205T184503Z
UID:7637-1770854400-1770940799@ohanacenterav.org
SUMMARY:Volunteer for Antelope Valley Free Adaptive Sports Program
DESCRIPTION:Recruit volunteers for antelope Valley only free adaptive sports program starting in March 2026\n\n(Soccer\, Kickball\, Basketball)\n\n\nLink to register to volunteer  https://form-usa.keela.co/ohana-volunteer-contact-list\n\n\n\nAthlete support\nCoaches and instructors\nMedical safety support\nProgram and event support\nCommunity and outreach support
URL:https://ohanacenterav.org/event/volunteer-for-antelope-valley-free-adaptive-sports-program-5/
LOCATION:Virtual Event
END:VEVENT
BEGIN:VEVENT
DTSTART;TZID=America/Los_Angeles:20260212T100000
DTEND;TZID=America/Los_Angeles:20260212T120000
DTSTAMP:20260425T084744
CREATED:20260205T184647Z
LAST-MODIFIED:20260205T184647Z
UID:7662-1770890400-1770897600@ohanacenterav.org
SUMMARY:TEACH program Sports Clinic
DESCRIPTION:In person Sign ups\n10:00 AM – 12:00 PM\nLocation: Ohana Center\n38700 5th St. West\nSuite D\nPalmdale CA 93535
URL:https://ohanacenterav.org/event/teach-program-sports-clinic-12/
LOCATION:Ohana Center\, 38700 5th Street West #suite D\, Palmdale\, CA 93550\, Palmdale\, CA\, 93550\, US
ATTACH;FMTTYPE=image/jpeg:https://ohanacenterav.org/wp-content/uploads/2026/01/IMG_0018.jpeg
END:VEVENT
BEGIN:VEVENT
DTSTART;TZID=America/Los_Angeles:20260212T100000
DTEND;TZID=America/Los_Angeles:20260212T120000
DTSTAMP:20260425T084744
CREATED:20260205T185608Z
LAST-MODIFIED:20260205T185608Z
UID:7673-1770890400-1770897600@ohanacenterav.org
SUMMARY:Family Focus Center
DESCRIPTION:Family Focus Center\nLocation: Ohana Center\n38700 5th St. West\nSuite D\nPalmdale CA 93551
URL:https://ohanacenterav.org/event/family-focus-center-12/
LOCATION:Ohana Center\, 38700 5th Street West #suite D\, Palmdale\, CA 93550\, Palmdale\, CA\, 93550\, US
ATTACH;FMTTYPE=image/jpeg:https://ohanacenterav.org/wp-content/uploads/2026/02/IMG_0015.jpeg
END:VEVENT
BEGIN:VEVENT
DTSTART;TZID=America/Los_Angeles:20260212T100000
DTEND;TZID=America/Los_Angeles:20260212T120000
DTSTAMP:20260425T084744
CREATED:20260205T190306Z
LAST-MODIFIED:20260205T190306Z
UID:7682-1770890400-1770897600@ohanacenterav.org
SUMMARY:Centro de Atención Familiar
DESCRIPTION:Centro de Atención Familiar\nUbicación: Ohana Center\n38700 5th St. West\nSuite D\nPalmdale CA 93551
URL:https://ohanacenterav.org/event/centro-de-atencion-familiar-12/
LOCATION:Ohana Center\, 38700 5th Street West #suite D\, Palmdale\, CA 93550\, Palmdale\, CA\, 93550\, US
ATTACH;FMTTYPE=image/jpeg:https://ohanacenterav.org/wp-content/uploads/2026/02/IMG_0016.jpeg
END:VEVENT
BEGIN:VEVENT
DTSTART;VALUE=DATE:20260219
DTEND;VALUE=DATE:20260220
DTSTAMP:20260425T084744
CREATED:20260106T164759Z
LAST-MODIFIED:20260205T184527Z
UID:7639-1771459200-1771545599@ohanacenterav.org
SUMMARY:Volunteer for Antelope Valley Free Adaptive Sports Program
DESCRIPTION:Recruit volunteers for antelope Valley only free adaptive sports program starting in March 2026\n\n(Soccer\, Kickball\, Basketball)\n\n\nLink to register to volunteer  https://form-usa.keela.co/ohana-volunteer-contact-list\n\n\n\nAthlete support\nCoaches and instructors\nMedical safety support\nProgram and event support\nCommunity and outreach support
URL:https://ohanacenterav.org/event/volunteer-for-antelope-valley-free-adaptive-sports-program-6/
LOCATION:Virtual Event
END:VEVENT
BEGIN:VEVENT
DTSTART;TZID=America/Los_Angeles:20260219T100000
DTEND;TZID=America/Los_Angeles:20260219T120000
DTSTAMP:20260425T084744
CREATED:20260205T184725Z
LAST-MODIFIED:20260205T184725Z
UID:7664-1771495200-1771502400@ohanacenterav.org
SUMMARY:TEACH program Sports Clinic
DESCRIPTION:In person Sign ups\n10:00 AM – 12:00 PM\nLocation: Ohana Center\n38700 5th St. West\nSuite D\nPalmdale CA 93535
URL:https://ohanacenterav.org/event/teach-program-sports-clinic-19/
LOCATION:Ohana Center\, 38700 5th Street West #suite D\, Palmdale\, CA 93550\, Palmdale\, CA\, 93550\, US
ATTACH;FMTTYPE=image/jpeg:https://ohanacenterav.org/wp-content/uploads/2026/01/IMG_0018.jpeg
END:VEVENT
END:VCALENDAR