BEGIN:VCALENDAR
VERSION:2.0
PRODID:-//Ohana Center - Antelope Valley - ECPv6.15.20//NONSGML v1.0//EN
CALSCALE:GREGORIAN
METHOD:PUBLISH
X-WR-CALNAME:Ohana Center - Antelope Valley
X-ORIGINAL-URL:https://ohanacenterav.org
X-WR-CALDESC:Events for Ohana Center - Antelope Valley
REFRESH-INTERVAL;VALUE=DURATION:PT1H
X-Robots-Tag:noindex
X-PUBLISHED-TTL:PT1H
BEGIN:VTIMEZONE
TZID:America/Los_Angeles
BEGIN:DAYLIGHT
TZOFFSETFROM:-0800
TZOFFSETTO:-0700
TZNAME:PDT
DTSTART:20220313T100000
END:DAYLIGHT
BEGIN:STANDARD
TZOFFSETFROM:-0700
TZOFFSETTO:-0800
TZNAME:PST
DTSTART:20221106T090000
END:STANDARD
BEGIN:DAYLIGHT
TZOFFSETFROM:-0800
TZOFFSETTO:-0700
TZNAME:PDT
DTSTART:20230312T100000
END:DAYLIGHT
BEGIN:STANDARD
TZOFFSETFROM:-0700
TZOFFSETTO:-0800
TZNAME:PST
DTSTART:20231105T090000
END:STANDARD
BEGIN:DAYLIGHT
TZOFFSETFROM:-0800
TZOFFSETTO:-0700
TZNAME:PDT
DTSTART:20240310T100000
END:DAYLIGHT
BEGIN:STANDARD
TZOFFSETFROM:-0700
TZOFFSETTO:-0800
TZNAME:PST
DTSTART:20241103T090000
END:STANDARD
END:VTIMEZONE
BEGIN:VEVENT
DTSTART;TZID=America/Los_Angeles:20231116T130000
DTEND;TZID=America/Los_Angeles:20231116T150000
DTSTAMP:20260425T071320
CREATED:20231107T013442Z
LAST-MODIFIED:20231107T013725Z
UID:7173-1700139600-1700146800@ohanacenterav.org
SUMMARY:Wellness Check-In and Relationship/Couples chat
DESCRIPTION:Join us for a fun and interactive event where you can check-in on your wellness and chat about relationships and couples’ stuff! \nWhether you’re single\, in a relationship\, or somewhere in between\, this event is for you! Come and share your experiences\, learn from others\, and get some valuable insights. It’s a great opportunity to connect with like-minded individuals and build meaningful connections. \nOur friendly and knowledgeable facilitators will guide the discussions and provide helpful tips and advice. So\, bring your questions\, stories\, and open minds! \nDon’t miss out on this chance to prioritize your well-being and gain valuable insights into relationships. Mark your calendars and see you there! \nMUST BE REGISTER TO ATTEND \nPARTICIPANT RAFFLE
URL:https://ohanacenterav.org/event/wellness-check-in-the-city-of-lancaster-home-health/
LOCATION:422 E Landsford St\, 422 East Landsford Street\, Lancaster\, CA 93535\, Lancaster\, CA\, 93535\, US
ATTACH;FMTTYPE=image/jpeg:https://ohanacenterav.org/wp-content/uploads/2023/11/IMG_7001.jpg
END:VEVENT
BEGIN:VEVENT
DTSTART;TZID=America/Los_Angeles:20231116T110000
DTEND;TZID=America/Los_Angeles:20231116T120000
DTSTAMP:20260425T071320
CREATED:20231107T014046Z
LAST-MODIFIED:20231107T014046Z
UID:7176-1700132400-1700136000@ohanacenterav.org
SUMMARY:TEACH Program: Parents/Caregivers Virtual Group 
DESCRIPTION:Topic: Money management
URL:https://ohanacenterav.org/event/teach-program-parents-caregivers-virtual-group/
LOCATION:503 East Avenue Q-3\, 503 East Avenue Q-3\, Palmdale\, CA 93591\, Palmdale\, CA\, 93591\, US
END:VEVENT
BEGIN:VEVENT
DTSTART;TZID=America/Los_Angeles:20231115T183000
DTEND;TZID=America/Los_Angeles:20231115T193000
DTSTAMP:20260425T071320
CREATED:20231107T011523Z
LAST-MODIFIED:20231107T011523Z
UID:7165-1700073000-1700076600@ohanacenterav.org
SUMMARY:Virtual Wellness Wednesday Caregiver Awareness
DESCRIPTION:Caregivers Appreciation Month\nSelf-Care Caregivers presentation with Felicia\nParticipation Raffle\n $10 Survey Participation \n\nJoin us for a special online event dedicated to raising awareness about caregivers! Whether you’re a caregiver yourself or simply interested in learning more\, this event is for you. We’ll be discussing important topics like self-care\, stress management\, and building a support network. Our expert speakers will share valuable insights and practical tips to help you navigate the challenges of caregiving. Don’t miss this opportunity to connect with others\, gain knowledge\, and find inspiration. Mark your calendar for this virtual event and get ready to prioritize your well-being!
URL:https://ohanacenterav.org/event/virtual-wellness-wednesday-caregiver-awareness/
LOCATION:Virtual Event
ATTACH;FMTTYPE=image/jpeg:https://ohanacenterav.org/wp-content/uploads/2023/11/C1DCB5CF-DE60-4399-BA5F-D88D3913BA53.jpg
END:VEVENT
BEGIN:VEVENT
DTSTART;TZID=America/Los_Angeles:20231114T183000
DTEND;TZID=America/Los_Angeles:20231114T193000
DTSTAMP:20260425T071320
CREATED:20231107T012237Z
LAST-MODIFIED:20231107T012237Z
UID:7169-1699986600-1699990200@ohanacenterav.org
SUMMARY:Hermanas que se curan y se levantan a través de la adversidad
DESCRIPTION:Hermanas que se curan y se levantan a través de la adversidad \n¡Únase a nosotros en 503 East Avenue Q3\, Palmdale\, CA\, EE. UU. para un evento conmovedor y empoderador! Esta reunión en persona tiene como objetivo celebrar la hermandad\, la curación y superar la adversidad. Te invitamos a nuestro Friendsgiving donde compartiremos historias\, risas y comida deliciosa. Es una oportunidad perfecta para conectarse con mujeres de ideas afines y encontrar apoyo en un ambiente cálido e inclusivo. Unámonos\, animémonos unas a otras y abracemos el poder de la hermandad. ¡No te pierdas este increíble evento! \nTaller de bienestar presencial\nTemas: amigosdando\nComunicación durante las vacaciones\nActividades / Juegos / Cena \nPresentación de Certificado (Módulo 2) \n\nMindfulness/Yoga- Luna y Sol Yoga\nBienestar femenino: a su debido tiempo\n\nPrimeros 15 en registrarse\nDebe estar registrado para asistir a este evento.
URL:https://ohanacenterav.org/event/hermanas-que-se-curan-y-se-levantan-a-traves-de-la-adversidad/
LOCATION:503 East Avenue Q-3\, 503 East Avenue Q-3\, Palmdale\, CA 93591\, Palmdale\, CA\, 93591\, US
ATTACH;FMTTYPE=image/jpeg:https://ohanacenterav.org/wp-content/uploads/2023/11/1114-2.jpg
END:VEVENT
BEGIN:VEVENT
DTSTART;TZID=America/Los_Angeles:20231114T183000
DTEND;TZID=America/Los_Angeles:20231114T193000
DTSTAMP:20260425T071320
CREATED:20231107T011923Z
LAST-MODIFIED:20231107T011923Z
UID:7167-1699986600-1699990200@ohanacenterav.org
SUMMARY:Sisters Healing and Rising through Adversity: Friendsgiving
DESCRIPTION:Sisters Healing and Rising through Adversity Friendsgiving\n\nCome join us at 503 East Avenue Q3\, Palmdale\, CA\, USA for a heartwarming and empowering event! This in-person gathering is all about celebrating sisterhood\, healing\, and rising above adversity. We invite you to our Friendsgiving where we’ll share stories\, laughter\, and delicious food. It’s a perfect opportunity to connect with like-minded women and find support in a warm and inclusive environment. Let’s come together\, uplift one another\, and embrace the power of sisterhood. Don’t miss out on this incredible event! \n\nIn-Person Wellness Workshop\nTopic: FriendsGiving\nCommunication during the Holiday\n Activities / Games/ Dinner\nCertificate Presentation (Module 2)\n\nMindfulness/Yoga- Luna and Sol Yoga\nFeminine Wellness- In Due Time\n\nFirst 15 to register\nMust be registered to attend this event
URL:https://ohanacenterav.org/event/sisters-healing-and-rising-through-adversity-friendsgiving/
LOCATION:503 East Avenue Q-3\, 503 East Avenue Q-3\, Palmdale\, CA 93591\, Palmdale\, CA\, 93591\, US
ATTACH;FMTTYPE=image/jpeg:https://ohanacenterav.org/wp-content/uploads/2023/11/1114-1.jpg
END:VEVENT
BEGIN:VEVENT
DTSTART;TZID=America/Los_Angeles:20231110T170000
DTEND;TZID=America/Los_Angeles:20231110T200000
DTSTAMP:20260425T071320
CREATED:20231107T010956Z
LAST-MODIFIED:20231107T011028Z
UID:7162-1699635600-1699646400@ohanacenterav.org
SUMMARY:Family Movie Night - Private Event
DESCRIPTION:5:00 PM Meet and Greet\n5:45 PM Movie Time\nPrivate Event
URL:https://ohanacenterav.org/event/family-movie-night-private-event/
LOCATION:Antelope\, Valley Mall\, movie theater
ATTACH;FMTTYPE=image/jpeg:https://ohanacenterav.org/wp-content/uploads/2023/11/IMG_7010.jpeg
END:VEVENT
BEGIN:VEVENT
DTSTART;TZID=America/Los_Angeles:20231108T163000
DTEND;TZID=America/Los_Angeles:20231108T183000
DTSTAMP:20260425T071320
CREATED:20231107T010635Z
LAST-MODIFIED:20231107T010635Z
UID:7160-1699461000-1699468200@ohanacenterav.org
SUMMARY:“Wellness Wednesday” Native American Awareness and LoveFit
DESCRIPTION:“Wellness Wednesday” Native American Awareness and LoveFit\n\nJoin us for a special event that celebrates Native American culture and promotes wellness! “Wellness Wednesday” Native American Awareness and LoveFit \nLight refreshments and raffles will be provided for participants. \nThis in-person event will bring together people from all walks of life to learn\, connect\, and embrace a healthy lifestyle. \n$10 Survey Participation \nArt Session – 4:30-5:30 PM\nLoveFit – 5:30 – 6:30 PM\nParticipation Raffle
URL:https://ohanacenterav.org/event/wellness-wednesday-native-american-awareness-and-lovefit/
LOCATION:503 East Avenue Q-3\, 503 East Avenue Q-3\, Palmdale\, CA 93550\, Palmdale\, CA\, 93550\, US
ATTACH;FMTTYPE=image/jpeg:https://ohanacenterav.org/wp-content/uploads/2023/11/IMG_6845.jpg
END:VEVENT
BEGIN:VEVENT
DTSTART;TZID=America/Los_Angeles:20231107T183000
DTEND;TZID=America/Los_Angeles:20231107T193000
DTSTAMP:20260425T071320
CREATED:20231107T005814Z
LAST-MODIFIED:20231107T005814Z
UID:7158-1699381800-1699385400@ohanacenterav.org
SUMMARY:TALLER DE BIENESTAR VIRTUAL SHARA: Estableciendo límites
DESCRIPTION:Taller Virtual de Bienestar \nGestión de relaciones: establecimiento de límites \nTema: Comunicación durante las vacaciones. \n\nMindfulness/Yoga- Luna y Sol Yoga\nBienestar femenino: a su debido tiempo\n\nÚnase a nosotros en un evento empoderador en línea\, SHARA Sisters Healing and Rising Through Adversity Relationship Management – Estableciendo límites. Esta sesión interactiva se centrará en la importancia de establecer límites en las relaciones\, ayudándole a afrontar situaciones desafiantes con confianza. \nDurante este evento\, obtendrá conocimientos valiosos y herramientas prácticas para establecer límites saludables\, mejorar la comunicación y mejorar su bienestar general. Nuestros oradores expertos compartirán sus experiencias y lo guiarán en un viaje de autodescubrimiento y crecimiento personal. \nYa sea que estés buscando fortalecer tus relaciones\, superar traumas del pasado o simplemente mejorar tu autoestima\, este evento es para ti. No pierda esta oportunidad de conectarse con personas con ideas afines\, aprender de historias inspiradoras y tomar el control de sus relaciones. \n¡Tome su lugar ahora y embárquese en una experiencia transformadora con el evento SHARA Sisters Healing and Rising Through Adversity Relationship Management – Estableciendo límites!
URL:https://ohanacenterav.org/event/shara-virtual-wellness-workshop-setting-boundaries-spanish/
LOCATION:Virtual Event
ATTACH;FMTTYPE=image/jpeg:https://ohanacenterav.org/wp-content/uploads/2023/11/IMG_6998.jpg
END:VEVENT
BEGIN:VEVENT
DTSTART;TZID=America/Los_Angeles:20231107T183000
DTEND;TZID=America/Los_Angeles:20231107T193000
DTSTAMP:20260425T071320
CREATED:20231107T005428Z
LAST-MODIFIED:20231107T005428Z
UID:7147-1699381800-1699385400@ohanacenterav.org
SUMMARY:SHARA VIRTUAL WELLNESS WORKSHOP: Setting Boundaries
DESCRIPTION:Virtual Wellness Workshop\nRelationship management- setting boundaries\nTopic: Communication during the Holidays \n\nMindfulness/Yoga- Luna and Sol Yoga\nFeminine Wellness – In DueTime\n\nJoin us for an empowering online event\, SHARA Sisters Healing and Rising Through Adversity Relationship Management – Setting Boundaries. This interactive session will focus on the importance of setting boundaries in relationships\, helping you navigate challenging situations with confidence. \nDuring this event\, you will gain valuable insights and practical tools to establish healthy boundaries\, improve communication\, and enhance your overall well-being. Our expert speakers will share their experiences and guide you on a journey of self-discovery and personal growth. \nWhether you’re looking to strengthen your relationships\, overcome past traumas\, or simply improve your self-esteem\, this event is for you. Don’t miss this opportunity to connect with like-minded individuals\, learn from inspiring stories\, and take control of your relationships. \nGrab your spot now and embark on a transformative experience with the SHARA Sisters Healing and Rising Through Adversity Relationship Management – Setting Boundaries event!
URL:https://ohanacenterav.org/event/shara-virtual-wellness-workshop-setting-boundaries/
LOCATION:Virtual Event
ATTACH;FMTTYPE=image/jpeg:https://ohanacenterav.org/wp-content/uploads/2023/11/IMG_6844.jpg
END:VEVENT
BEGIN:VEVENT
DTSTART;TZID=America/Los_Angeles:20231028T103000
DTEND;TZID=America/Los_Angeles:20231028T133000
DTSTAMP:20260425T071320
CREATED:20231005T161214Z
LAST-MODIFIED:20231005T161840Z
UID:7138-1698489000-1698499800@ohanacenterav.org
SUMMARY:Maternal Wellness Circle 
DESCRIPTION:Raw-based cooking experience 11:00 AM -12:00 PM\nStretch/Breath Exercises 12:00-12:15 PM\nArt Experience 12:15 PM – 1:30 PM
URL:https://ohanacenterav.org/event/maternal-wellness-circle-2/
END:VEVENT
BEGIN:VEVENT
DTSTART;TZID=America/Los_Angeles:20231025T163000
DTEND;TZID=America/Los_Angeles:20231025T183000
DTSTAMP:20260425T071320
CREATED:20231005T161006Z
LAST-MODIFIED:20231005T161716Z
UID:7134-1698251400-1698258600@ohanacenterav.org
SUMMARY:EARTH Program - Wellness Wednesday 
DESCRIPTION:Breast Cancer Awareness Celebration \npaint party \nYucca Neighborhood House \n4:30-5:30 Paint & Sip ( cold/hot Cider) \n\n5:30-6:30 Lovefit (45 minute dance fitness workout & cooldown with LoveFit affirmations & self-love meditation\nRewards program with giveaways valued at up to $25
URL:https://ohanacenterav.org/event/earth-program-wellness-wednesday-2/
LOCATION:Yucca Neighborhood House
END:VEVENT
BEGIN:VEVENT
DTSTART;TZID=America/Los_Angeles:20231019T110000
DTEND;TZID=America/Los_Angeles:20231019T120000
DTSTAMP:20260425T071320
CREATED:20231005T160719Z
LAST-MODIFIED:20231005T160719Z
UID:7132-1697713200-1697716800@ohanacenterav.org
SUMMARY:SHARA Virtual/In-Person Support Group
DESCRIPTION:Self-Determination with Saniyyah
URL:https://ohanacenterav.org/event/shara-virtual-in-person-support-group/
END:VEVENT
BEGIN:VEVENT
DTSTART;TZID=America/Los_Angeles:20231017T183000
DTEND;TZID=America/Los_Angeles:20231017T193000
DTSTAMP:20260425T071320
CREATED:20231005T160520Z
LAST-MODIFIED:20231005T160520Z
UID:7130-1697567400-1697571000@ohanacenterav.org
SUMMARY:SHARA In-Person Wellness Workshop
DESCRIPTION:Topic: Relationship management- setting boundaries\nEmpower Them Collective\n\nFeminine Wellness-  In Due Time\nMindfulness/Yoga – Luna and Sol Yoga\nCommunity Resources
URL:https://ohanacenterav.org/event/shara-in-person-wellness-workshop/
END:VEVENT
BEGIN:VEVENT
DTSTART;TZID=America/Los_Angeles:20231011T183000
DTEND;TZID=America/Los_Angeles:20231011T193000
DTSTAMP:20260425T071320
CREATED:20231005T160155Z
LAST-MODIFIED:20231005T160155Z
UID:7128-1697049000-1697052600@ohanacenterav.org
SUMMARY: EARTH Program - Wellness Wednesday 
DESCRIPTION:Breast Cancer Awareness Chat\n(Learn to scan your body.) virtual raffle
URL:https://ohanacenterav.org/event/earth-program-wellness-wednesday/
LOCATION:Virtual Event
END:VEVENT
BEGIN:VEVENT
DTSTART;TZID=America/Los_Angeles:20231005T130000
DTEND;TZID=America/Los_Angeles:20231005T150000
DTSTAMP:20260425T071320
CREATED:20231005T155545Z
LAST-MODIFIED:20231005T155545Z
UID:7124-1696510800-1696518000@ohanacenterav.org
SUMMARY:SHARA Program
DESCRIPTION:1:00 – 2:00 wellness check-in\n2:00 – 3:00 Relationship/couple support group\nParticipation Raffle
URL:https://ohanacenterav.org/event/shara-program-100523/
LOCATION:The City of Lancaster Health Home
END:VEVENT
BEGIN:VEVENT
DTSTART;TZID=America/Los_Angeles:20231005T110000
DTEND;TZID=America/Los_Angeles:20231005T120000
DTSTAMP:20260425T071320
CREATED:20231005T155909Z
LAST-MODIFIED:20231005T155909Z
UID:7126-1696503600-1696507200@ohanacenterav.org
SUMMARY:TEACH Program - Virtual Group
DESCRIPTION:Talking about Race and Disability presented by Tavia empowerTHEMcollective
URL:https://ohanacenterav.org/event/teach-program-virtual-group/
LOCATION:Virtual Event
END:VEVENT
BEGIN:VEVENT
DTSTART;TZID=America/Los_Angeles:20231004T130000
DTEND;TZID=America/Los_Angeles:20231004T150000
DTSTAMP:20260425T071320
CREATED:20231005T155355Z
LAST-MODIFIED:20231005T155355Z
UID:7121-1696424400-1696431600@ohanacenterav.org
SUMMARY:SHARA Therapeutic Fun Day
DESCRIPTION:Therapeutic Fun Day    \nPaint and Sip Cider 
URL:https://ohanacenterav.org/event/shara-therapeutic-fun-day/
LOCATION:The City of Lancaster Health Home
END:VEVENT
BEGIN:VEVENT
DTSTART;TZID=America/Los_Angeles:20231003T130000
DTEND;TZID=America/Los_Angeles:20231003T150000
DTSTAMP:20260425T071320
CREATED:20231005T155155Z
LAST-MODIFIED:20231005T155155Z
UID:7119-1696338000-1696345200@ohanacenterav.org
SUMMARY:SHARA Virtual Wellness Workshop
DESCRIPTION:Topic: Effective Communication / Journaling -using I statements\n\nFeminine Wellness-  In Due Time\nMindfulness/Yoga – Luna and Sol Yoga
URL:https://ohanacenterav.org/event/shara-virtual-wellness-workshop/
LOCATION:Virtual Event
END:VEVENT
BEGIN:VEVENT
DTSTART;TZID=America/Los_Angeles:20230829T183000
DTEND;TZID=America/Los_Angeles:20230829T193000
DTSTAMP:20260425T071320
CREATED:20230801T150640Z
LAST-MODIFIED:20230817T151127Z
UID:7104-1693333800-1693337400@ohanacenterav.org
SUMMARY:SHARA Virtual Support Group Via Zoom
DESCRIPTION:Sister Healing And Rising Through Adversity
URL:https://ohanacenterav.org/event/shara-virtual-support-group/
LOCATION:Virtual Event
END:VEVENT
BEGIN:VEVENT
DTSTART;TZID=America/Los_Angeles:20230825T120000
DTEND;TZID=America/Los_Angeles:20230825T140000
DTSTAMP:20260425T071320
CREATED:20230817T150450Z
LAST-MODIFIED:20230817T150450Z
UID:7101-1692964800-1692972000@ohanacenterav.org
SUMMARY:TEACH Program / AV Seed Collaboration
DESCRIPTION:Wellness Activity: Wellness Art
URL:https://ohanacenterav.org/event/teach-program-av-seed-collaboration/
LOCATION:LA County Regional Center\, 43850 10th St W\, Lancaster\, CA\, 93534\, United States
END:VEVENT
BEGIN:VEVENT
DTSTART;TZID=America/Los_Angeles:20230819T110000
DTEND;TZID=America/Los_Angeles:20230819T140000
DTSTAMP:20260425T071320
CREATED:20230817T145805Z
LAST-MODIFIED:20230817T145805Z
UID:7099-1692442800-1692453600@ohanacenterav.org
SUMMARY:2nd Annual Black Maternal Alternative Care Alliance Baby Shower
DESCRIPTION:PRIVATE EVENT
URL:https://ohanacenterav.org/event/2nd-annual-black-maternal-alternative-care-alliance-baby-shower/
END:VEVENT
BEGIN:VEVENT
DTSTART;TZID=America/Los_Angeles:20230817T140000
DTEND;TZID=America/Los_Angeles:20230817T160000
DTSTAMP:20260425T071320
CREATED:20230801T145614Z
LAST-MODIFIED:20230817T151307Z
UID:7097-1692280800-1692288000@ohanacenterav.org
SUMMARY:Therapeutic Fundays @ City of Lancaster Health Home
DESCRIPTION:Ohana Therapeutic fun days is yet another outlet to help you gain tools that can be applied to your daily wellness journey.\n\n\nJoin us at the city Lancaster‘s Health Home every first and third Wednesdays and Fridays. we are offering therapeutic funding for individuals and families on Wednesdays and on Fridays we will have a full support group for wellness check in’s. Resource linkage support\, free wellness kits\, and Black birthing suppot.
URL:https://ohanacenterav.org/event/therapeutic-fundays-city-of-lancaster-health-home-4/
LOCATION:422 E Landsford St\, 422 East Landsford Street\, Lancaster\, CA 93535\, Lancaster\, CA\, 93535\, US
ATTACH;FMTTYPE=image/jpeg:https://ohanacenterav.org/wp-content/uploads/2023/07/7075_image.jpg
END:VEVENT
BEGIN:VEVENT
DTSTART;TZID=America/Los_Angeles:20230816T130000
DTEND;TZID=America/Los_Angeles:20230816T150000
DTSTAMP:20260425T071320
CREATED:20230801T144353Z
LAST-MODIFIED:20230817T144924Z
UID:7094-1692190800-1692198000@ohanacenterav.org
SUMMARY:Therapeutic Fundays @ City of Lancaster Health Home
DESCRIPTION:Ohana Therapeutic fun days is yet another outlet to help you gain tools that can be applied to your daily wellness journey.\n\n\nJoin us at the city Lancaster‘s Health Home every first and third Wednesdays and Fridays. we are offering therapeutic funding for individuals and families on Wednesdays and on Fridays we will have a full support group for wellness check in’s. Resource linkage support\, free wellness kits\, and Black birthing suppot.
URL:https://ohanacenterav.org/event/therapeutic-fundays-city-of-lancaster-health-home-3/
LOCATION:422 E Landsford St\, 422 East Landsford Street\, Lancaster\, CA 93535\, Lancaster\, CA\, 93535\, US
ATTACH;FMTTYPE=image/jpeg:https://ohanacenterav.org/wp-content/uploads/2023/07/7075_image.jpg
END:VEVENT
BEGIN:VEVENT
DTSTART;TZID=America/Los_Angeles:20230815T150000
DTEND;TZID=America/Los_Angeles:20230815T180000
DTSTAMP:20260425T071320
CREATED:20230801T144109Z
LAST-MODIFIED:20230817T144211Z
UID:7092-1692111600-1692122400@ohanacenterav.org
SUMMARY:Yucca Wellness Wednesdays
DESCRIPTION:Free wellness Wednesdays\n\n\nOhana Center’s Empowerment\, Art\, Resiliency\, Teaching and Healing (EARTH) Program\, is offering FREE FAMILY FRIENDLY WELLNESS WEDNESDAY WORKSHOPS. Every fourth and second Wednesday we will explore ways to help reduce stress using psychosocial coping skills
URL:https://ohanacenterav.org/event/yucca-wellness-wednesdays-3/
LOCATION:503 East Avenue Q-3\, 503 East Avenue Q-3\, Palmdale\, CA 93591\, Palmdale\, CA\, 93591\, US
ATTACH;FMTTYPE=image/jpeg:https://ohanacenterav.org/wp-content/uploads/2023/02/6977_image.jpg
END:VEVENT
BEGIN:VEVENT
DTSTART;TZID=America/Los_Angeles:20230720T120000
DTEND;TZID=America/Los_Angeles:20230720T141500
DTSTAMP:20260425T071320
CREATED:20230502T181854Z
LAST-MODIFIED:20230704T140039Z
UID:7035-1689854400-1689862500@ohanacenterav.org
SUMMARY:T.E.A.C.H. Trust\, Equality\, Access\, Community and Healing
DESCRIPTION:
URL:https://ohanacenterav.org/event/t-e-a-c-h-trust-equality-access-community-and-healing/
LOCATION:503 E Ave Q3\, 503 East Avenue Q3\, Palmdale\, CA 93550\, Palmdale\, CA\, 93550\, US
END:VEVENT
BEGIN:VEVENT
DTSTART;TZID=America/Los_Angeles:20230719T140000
DTEND;TZID=America/Los_Angeles:20230719T160000
DTSTAMP:20260425T071320
CREATED:20230706T235228Z
LAST-MODIFIED:20230706T235228Z
UID:7079-1689775200-1689782400@ohanacenterav.org
SUMMARY:Therapeutic Fundays @ City of Lancaster Health Home
DESCRIPTION:Ohana Therapeutic fun days is yet another outlet to help you gain tools that can be applied to your daily wellness journey.\n\n\nJoin us at the city Lancaster‘s Health Home every first and third Wednesdays and Fridays. we are offering therapeutic funding for individuals and families on Wednesdays and on Fridays we will have a full support group for wellness check in’s. Resource linkage support\, free wellness kits\, and Black birthing suppot.
URL:https://ohanacenterav.org/event/therapeutic-fundays-city-of-lancaster-health-home-2/
LOCATION:422 E Landsford St\, 422 East Landsford Street\, Lancaster\, CA 93535\, Lancaster\, CA\, 93535\, US
ATTACH;FMTTYPE=image/jpeg:https://ohanacenterav.org/wp-content/uploads/2023/07/7075_image.jpg
END:VEVENT
BEGIN:VEVENT
DTSTART;TZID=America/Los_Angeles:20230707T140000
DTEND;TZID=America/Los_Angeles:20230707T160000
DTSTAMP:20260425T071320
CREATED:20230706T234534Z
LAST-MODIFIED:20230706T235128Z
UID:7075-1688738400-1688745600@ohanacenterav.org
SUMMARY:Therapeutic Fundays @ City of Lancaster Health Home
DESCRIPTION:Ohana Therapeutic fun days is yet another outlet to help you gain tools that can be applied to your daily wellness journey.\n\n\nJoin us at the city Lancaster‘s Health Home every first and third Wednesdays and Fridays. we are offering therapeutic funding for individuals and families on Wednesdays and on Fridays we will have a full support group for wellness check in’s. Resource linkage support\, free wellness kits\, and Black birthing suppot.
URL:https://ohanacenterav.org/event/therapeutic-fundays-city-of-lancaster-health-home/
LOCATION:422 E Landsford St\, 422 East Landsford Street\, Lancaster\, CA 93535\, Lancaster\, CA\, 93535\, US
ATTACH;FMTTYPE=image/jpeg:https://ohanacenterav.org/wp-content/uploads/2023/07/7075_image.jpg
END:VEVENT
BEGIN:VEVENT
DTSTART;TZID=America/Los_Angeles:20230706T120000
DTEND;TZID=America/Los_Angeles:20230706T141500
DTSTAMP:20260425T071320
CREATED:20230502T183207Z
LAST-MODIFIED:20230704T135959Z
UID:7055-1688644800-1688652900@ohanacenterav.org
SUMMARY:T.E.A.C.H. Trust\, Equality\, Access\, Community and Healing
DESCRIPTION:
URL:https://ohanacenterav.org/event/t-e-a-c-h-trust-equality-access-community-and-healing-2/
LOCATION:503 E Ave Q3\, 503 East Avenue Q3\, Palmdale\, CA 93550\, Palmdale\, CA\, 93550\, US
END:VEVENT
BEGIN:VEVENT
DTSTART;TZID=America/Los_Angeles:20230624T103000
DTEND;TZID=America/Los_Angeles:20230624T123000
DTSTAMP:20260425T071320
CREATED:20230502T182041Z
LAST-MODIFIED:20230612T164601Z
UID:7041-1687602600-1687609800@ohanacenterav.org
SUMMARY:Maternal Wellness Circle
DESCRIPTION:Safe space for individuals who identify as black or African-American or recently gave birth.\n\n\nThe maternal wellness circle is the safe space created for individuals who identify as black or African-American that is currently pregnant or recently have giving birth. We gather and share conversation over a raw plant-based meal shared by Chef Roxy as well as Artist Amanda Khan leading participants into a Art experience. \nTRANSPORTATION PROVIDED
URL:https://ohanacenterav.org/event/maternal-wellness-circle/
LOCATION:503 East Avenue Q-3\, 503 East Avenue Q-3\, Palmdale\, CA 93550\, Palmdale\, CA\, 93550\, US
ATTACH;FMTTYPE=image/jpeg:https://ohanacenterav.org/wp-content/uploads/2023/05/7041_image.jpg
END:VEVENT
BEGIN:VEVENT
DTSTART;TZID=America/Los_Angeles:20230624T100000
DTEND;TZID=America/Los_Angeles:20230624T110000
DTSTAMP:20260425T071320
CREATED:20230502T181957Z
LAST-MODIFIED:20230612T164454Z
UID:7037-1687600800-1687604400@ohanacenterav.org
SUMMARY:Women Wellness Virtual Support Group
DESCRIPTION:Women supporting women.\n\n\nYou are not alone! \nWe want to create a safe space where women can share concerning issues\, and receive positive support. We meet once a month virtually. You’ll have the opportunity to earn Ohana Bucks$$$\, collect enough to earn a free gift 📦 \n\nPaint & Chat register by 5/12/23 for free supplies
URL:https://ohanacenterav.org/event/women-wellness-virtual-support-group/
ATTACH;FMTTYPE=image/png:https://ohanacenterav.org/wp-content/uploads/2023/05/7037_image.png
END:VEVENT
END:VCALENDAR