BEGIN:VCALENDAR
VERSION:2.0
PRODID:-//Ohana Center - Antelope Valley - ECPv6.15.20//NONSGML v1.0//EN
CALSCALE:GREGORIAN
METHOD:PUBLISH
X-WR-CALNAME:Ohana Center - Antelope Valley
X-ORIGINAL-URL:https://ohanacenterav.org
X-WR-CALDESC:Events for Ohana Center - Antelope Valley
REFRESH-INTERVAL;VALUE=DURATION:PT1H
X-Robots-Tag:noindex
X-PUBLISHED-TTL:PT1H
BEGIN:VTIMEZONE
TZID:America/Los_Angeles
BEGIN:DAYLIGHT
TZOFFSETFROM:-0800
TZOFFSETTO:-0700
TZNAME:PDT
DTSTART:20220313T100000
END:DAYLIGHT
BEGIN:STANDARD
TZOFFSETFROM:-0700
TZOFFSETTO:-0800
TZNAME:PST
DTSTART:20221106T090000
END:STANDARD
BEGIN:DAYLIGHT
TZOFFSETFROM:-0800
TZOFFSETTO:-0700
TZNAME:PDT
DTSTART:20230312T100000
END:DAYLIGHT
BEGIN:STANDARD
TZOFFSETFROM:-0700
TZOFFSETTO:-0800
TZNAME:PST
DTSTART:20231105T090000
END:STANDARD
BEGIN:DAYLIGHT
TZOFFSETFROM:-0800
TZOFFSETTO:-0700
TZNAME:PDT
DTSTART:20240310T100000
END:DAYLIGHT
BEGIN:STANDARD
TZOFFSETFROM:-0700
TZOFFSETTO:-0800
TZNAME:PST
DTSTART:20241103T090000
END:STANDARD
END:VTIMEZONE
BEGIN:VEVENT
DTSTART;TZID=America/Los_Angeles:20230308T170000
DTEND;TZID=America/Los_Angeles:20230308T180000
DTSTAMP:20260425T183604
CREATED:20230301T235357Z
LAST-MODIFIED:20230301T235523Z
UID:6984-1678294800-1678298400@ohanacenterav.org
SUMMARY:Art Workshop
DESCRIPTION:Join our art workshop virtual by Zoom or in person at the Yucca Community House. \nWe are celebrating and honoring\, and welcoming families with disabilities. Join our FREE Wellness workshops and help us bring awareness to Trisomy and Disabled people.
URL:https://ohanacenterav.org/event/6984/
LOCATION:Virtual Event
END:VEVENT
BEGIN:VEVENT
DTSTART;TZID=America/Los_Angeles:20230225T100000
DTEND;TZID=America/Los_Angeles:20230225T110000
DTSTAMP:20260425T183604
CREATED:20230206T224803Z
LAST-MODIFIED:20230206T224803Z
UID:6970-1677319200-1677322800@ohanacenterav.org
SUMMARY:Beginners fitness class
DESCRIPTION:Free Beginners Fitness class\n\n\nJoin our family friendly beginners fitness class with TY Fit. \nGrab your towel yoga mat and a bottle of water and don’t forget your family and get your morning workout with a Ohana Center AV
URL:https://ohanacenterav.org/event/beginners-fitness-class/
ATTACH;FMTTYPE=image/png:https://ohanacenterav.org/wp-content/uploads/2023/02/6970_image.png
END:VEVENT
BEGIN:VEVENT
DTSTART;TZID=America/Los_Angeles:20230208T170000
DTEND;TZID=America/Los_Angeles:20230208T180000
DTSTAMP:20260425T183604
CREATED:20230206T224634Z
LAST-MODIFIED:20230206T224634Z
UID:6967-1675875600-1675879200@ohanacenterav.org
SUMMARY:Online/Virtual Art Workshop
DESCRIPTION:Free Art Workshop\n\n\nJoin our family friendly free guided art workshop where you’re celebrating community love to art. \nAll materials will be provided for participants registered before Monday\, February 6\, 2023. \nOr can be picked up in person at the Yucca neighborhood house Wednesday\, February 8 at 3:30PM.
URL:https://ohanacenterav.org/event/online-virtual-art-workshop/
ATTACH;FMTTYPE=image/png:https://ohanacenterav.org/wp-content/uploads/2023/02/6967_image.png
END:VEVENT
END:VCALENDAR