BEGIN:VCALENDAR
VERSION:2.0
PRODID:-//Ohana Center - Antelope Valley - ECPv6.15.20//NONSGML v1.0//EN
CALSCALE:GREGORIAN
METHOD:PUBLISH
X-ORIGINAL-URL:https://ohanacenterav.org
X-WR-CALDESC:Events for Ohana Center - Antelope Valley
REFRESH-INTERVAL;VALUE=DURATION:PT1H
X-Robots-Tag:noindex
X-PUBLISHED-TTL:PT1H
BEGIN:VTIMEZONE
TZID:America/Los_Angeles
BEGIN:DAYLIGHT
TZOFFSETFROM:-0800
TZOFFSETTO:-0700
TZNAME:PDT
DTSTART:20250309T100000
END:DAYLIGHT
BEGIN:STANDARD
TZOFFSETFROM:-0700
TZOFFSETTO:-0800
TZNAME:PST
DTSTART:20251102T090000
END:STANDARD
BEGIN:DAYLIGHT
TZOFFSETFROM:-0800
TZOFFSETTO:-0700
TZNAME:PDT
DTSTART:20260308T100000
END:DAYLIGHT
BEGIN:STANDARD
TZOFFSETFROM:-0700
TZOFFSETTO:-0800
TZNAME:PST
DTSTART:20261101T090000
END:STANDARD
BEGIN:DAYLIGHT
TZOFFSETFROM:-0800
TZOFFSETTO:-0700
TZNAME:PDT
DTSTART:20270314T100000
END:DAYLIGHT
BEGIN:STANDARD
TZOFFSETFROM:-0700
TZOFFSETTO:-0800
TZNAME:PST
DTSTART:20271107T090000
END:STANDARD
END:VTIMEZONE
BEGIN:VTIMEZONE
TZID:Africa/Abidjan
BEGIN:STANDARD
TZOFFSETFROM:+0000
TZOFFSETTO:+0000
TZNAME:GMT
DTSTART:20250101T000000
END:STANDARD
END:VTIMEZONE
BEGIN:VEVENT
DTSTART;VALUE=DATE:20260226
DTEND;VALUE=DATE:20260227
DTSTAMP:20260425T085228
CREATED:20260106T164852Z
LAST-MODIFIED:20260205T184552Z
UID:7641-1772064000-1772150399@ohanacenterav.org
SUMMARY:Volunteer for Antelope Valley Free Adaptive Sports Program
DESCRIPTION:Recruit volunteers for antelope Valley only free adaptive sports program starting in March 2026\n\n(Soccer\, Kickball\, Basketball)\n\n\nLink to register to volunteer  https://form-usa.keela.co/ohana-volunteer-contact-list\n\n\n\nAthlete support\nCoaches and instructors\nMedical safety support\nProgram and event support\nCommunity and outreach support
URL:https://ohanacenterav.org/event/volunteer-for-antelope-valley-free-adaptive-sports-program-7/
LOCATION:Virtual Event
END:VEVENT
BEGIN:VEVENT
DTSTART;TZID=America/Los_Angeles:20260226T100000
DTEND;TZID=America/Los_Angeles:20260226T120000
DTSTAMP:20260425T085228
CREATED:20260205T184750Z
LAST-MODIFIED:20260205T184750Z
UID:7666-1772100000-1772107200@ohanacenterav.org
SUMMARY:TEACH program Sports Clinic
DESCRIPTION:In person Sign ups\n10:00 AM – 12:00 PM\nLocation: Ohana Center\n38700 5th St. West\nSuite D\nPalmdale CA 93535
URL:https://ohanacenterav.org/event/teach-program-sports-clinic-26/
LOCATION:Ohana Center\, 38700 5th Street West #suite D\, Palmdale\, CA 93550\, Palmdale\, CA\, 93550\, US
ATTACH;FMTTYPE=image/jpeg:https://ohanacenterav.org/wp-content/uploads/2026/01/IMG_0018.jpeg
END:VEVENT
BEGIN:VEVENT
DTSTART;TZID=America/Los_Angeles:20260226T100000
DTEND;TZID=America/Los_Angeles:20260226T120000
DTSTAMP:20260425T085228
CREATED:20260205T185741Z
LAST-MODIFIED:20260205T185741Z
UID:7677-1772100000-1772107200@ohanacenterav.org
SUMMARY:Family Focus Center
DESCRIPTION:Family Focus Center\nLocation: Ohana Center\n38700 5th St. West\nSuite D\nPalmdale CA 93551
URL:https://ohanacenterav.org/event/family-focus-center-26/
LOCATION:Ohana Center\, 38700 5th Street West #suite D\, Palmdale\, CA 93550\, Palmdale\, CA\, 93550\, US
ATTACH;FMTTYPE=image/jpeg:https://ohanacenterav.org/wp-content/uploads/2026/02/IMG_0015.jpeg
END:VEVENT
BEGIN:VEVENT
DTSTART;TZID=America/Los_Angeles:20260226T100000
DTEND;TZID=America/Los_Angeles:20260226T120000
DTSTAMP:20260425T085228
CREATED:20260205T190459Z
LAST-MODIFIED:20260205T190459Z
UID:7686-1772100000-1772107200@ohanacenterav.org
SUMMARY:Centro de Atención Familiar
DESCRIPTION:Centro de Atención Familiar\nUbicación: Ohana Center\n38700 5th St. West\nSuite D\nPalmdale CA 93551
URL:https://ohanacenterav.org/event/centro-de-atencion-familiar-26/
LOCATION:Ohana Center\, 38700 5th Street West #suite D\, Palmdale\, CA 93550\, Palmdale\, CA\, 93550\, US
ATTACH;FMTTYPE=image/jpeg:https://ohanacenterav.org/wp-content/uploads/2026/02/IMG_0016.jpeg
END:VEVENT
BEGIN:VEVENT
DTSTART;TZID=America/Los_Angeles:20260305T100000
DTEND;TZID=America/Los_Angeles:20260305T120000
DTSTAMP:20260425T085228
CREATED:20260303T125228Z
LAST-MODIFIED:20260303T125228Z
UID:7700-1772704800-1772712000@ohanacenterav.org
SUMMARY:Community Navigator
DESCRIPTION:Family Focus Center
URL:https://ohanacenterav.org/event/community-navigator/
LOCATION:Ohana Center\, 38700 5th Street West #suite D\, Palmdale\, CA 93550\, Palmdale\, CA\, 93550\, US
ATTACH;FMTTYPE=image/jpeg:https://ohanacenterav.org/wp-content/uploads/2026/03/IMG_0015-1.jpeg
END:VEVENT
BEGIN:VEVENT
DTSTART;TZID=Africa/Abidjan:20260305T183000
DTEND;TZID=Africa/Abidjan:20260305T193000
DTSTAMP:20260425T085228
CREATED:20260303T124348Z
LAST-MODIFIED:20260303T124348Z
UID:7694-1772735400-1772739000@ohanacenterav.org
SUMMARY:Sister’s Healing and Rising Through Adversity: Cohort two
DESCRIPTION:Join our online squad as we heal\, grow\, and rise stronger together in Sister’s Healing & Rising Cohort Two!\n\n\nWelcome to Sister’s Healing and Rising through Adversity Cohort Two!\nJoin us online for a powerful journey where healing meets strength. This cohort is all about lifting each other up and navigating life’s challenges with heart and resilience. Whether you’re looking to connect\, grow\, or just find some peace\, this is the space for you. Let’s rise together and turn adversity into triumph!
URL:https://ohanacenterav.org/event/sisters-healing-and-rising-through-adversity-cohort-two/
LOCATION:Online Event
ATTACH;FMTTYPE=image/jpeg:https://ohanacenterav.org/wp-content/uploads/2026/03/7694_image.jpg
END:VEVENT
BEGIN:VEVENT
DTSTART;TZID=America/Los_Angeles:20260306T180000
DTEND;TZID=America/Los_Angeles:20260306T190000
DTSTAMP:20260425T085228
CREATED:20260303T124916Z
LAST-MODIFIED:20260303T124916Z
UID:7698-1772820000-1772823600@ohanacenterav.org
SUMMARY:Prenatal\, Postpartum\, and Doula Support Group
DESCRIPTION:PRIVATE EVENT
URL:https://ohanacenterav.org/event/prenatal-postpartum-and-doula-support-group/
END:VEVENT
BEGIN:VEVENT
DTSTART;TZID=America/Los_Angeles:20260312T100000
DTEND;TZID=America/Los_Angeles:20260312T120000
DTSTAMP:20260425T085228
CREATED:20260303T125340Z
LAST-MODIFIED:20260303T125340Z
UID:7706-1773309600-1773316800@ohanacenterav.org
SUMMARY:Community Navigator
DESCRIPTION:Family Focus Center
URL:https://ohanacenterav.org/event/community-navigator-2/
LOCATION:Ohana Center\, 38700 5th Street West #suite D\, Palmdale\, CA 93550\, Palmdale\, CA\, 93550\, US
ATTACH;FMTTYPE=image/jpeg:https://ohanacenterav.org/wp-content/uploads/2026/03/IMG_0015-1.jpeg
END:VEVENT
BEGIN:VEVENT
DTSTART;TZID=America/Los_Angeles:20260313T150000
DTEND;TZID=America/Los_Angeles:20260313T180000
DTSTAMP:20260425T085228
CREATED:20260303T125759Z
LAST-MODIFIED:20260303T125759Z
UID:7712-1773414000-1773424800@ohanacenterav.org
SUMMARY:Trisomy 13 Awareness day Fundraiser
DESCRIPTION:TEACH program Sports Clinic\nin person Sign up
URL:https://ohanacenterav.org/event/trisomy-13-awareness-day-fundraiser/
LOCATION:Ohana Center\, 38700 5th Street West #suite D\, Palmdale\, CA 93550\, Palmdale\, CA\, 93550\, US
ATTACH;FMTTYPE=image/jpeg:https://ohanacenterav.org/wp-content/uploads/2026/03/IMG_0611.jpeg
END:VEVENT
BEGIN:VEVENT
DTSTART;TZID=America/Los_Angeles:20260319T100000
DTEND;TZID=America/Los_Angeles:20260319T120000
DTSTAMP:20260425T085228
CREATED:20260303T125410Z
LAST-MODIFIED:20260303T125410Z
UID:7708-1773914400-1773921600@ohanacenterav.org
SUMMARY:Community Navigator
DESCRIPTION:Family Focus Center
URL:https://ohanacenterav.org/event/community-navigator-3/
LOCATION:Ohana Center\, 38700 5th Street West #suite D\, Palmdale\, CA 93550\, Palmdale\, CA\, 93550\, US
ATTACH;FMTTYPE=image/jpeg:https://ohanacenterav.org/wp-content/uploads/2026/03/IMG_0015-1.jpeg
END:VEVENT
BEGIN:VEVENT
DTSTART;TZID=America/Los_Angeles:20260326T100000
DTEND;TZID=America/Los_Angeles:20260326T120000
DTSTAMP:20260425T085228
CREATED:20260303T125437Z
LAST-MODIFIED:20260303T125437Z
UID:7710-1774519200-1774526400@ohanacenterav.org
SUMMARY:Community Navigator
DESCRIPTION:Family Focus Center
URL:https://ohanacenterav.org/event/community-navigator-4/
LOCATION:Ohana Center\, 38700 5th Street West #suite D\, Palmdale\, CA 93550\, Palmdale\, CA\, 93550\, US
ATTACH;FMTTYPE=image/jpeg:https://ohanacenterav.org/wp-content/uploads/2026/03/IMG_0015-1.jpeg
END:VEVENT
BEGIN:VEVENT
DTSTART;TZID=America/Los_Angeles:20260402T183000
DTEND;TZID=America/Los_Angeles:20260402T193000
DTSTAMP:20260425T085228
CREATED:20260409T121019Z
LAST-MODIFIED:20260409T121019Z
UID:7716-1775154600-1775158200@ohanacenterav.org
SUMMARY:SHARA Virtual Branding Workshop Pt.1
DESCRIPTION:
URL:https://ohanacenterav.org/event/shara-virtual-branding-workshop-pt-1/
ATTACH;FMTTYPE=image/jpeg:https://ohanacenterav.org/wp-content/uploads/2026/04/IMG_1347.jpeg
END:VEVENT
BEGIN:VEVENT
DTSTART;TZID=America/Los_Angeles:20260407T100000
DTEND;TZID=America/Los_Angeles:20260407T140000
DTSTAMP:20260425T085228
CREATED:20260409T121331Z
LAST-MODIFIED:20260409T121331Z
UID:7719-1775556000-1775570400@ohanacenterav.org
SUMMARY:Cedars Training @ Ohana
DESCRIPTION:
URL:https://ohanacenterav.org/event/cedars-training-ohana/
ATTACH;FMTTYPE=image/jpeg:https://ohanacenterav.org/wp-content/uploads/2026/04/2566923894254373441.jpg
END:VEVENT
BEGIN:VEVENT
DTSTART;TZID=America/Los_Angeles:20260407T183000
DTEND;TZID=America/Los_Angeles:20260407T193000
DTSTAMP:20260425T085228
CREATED:20260409T122457Z
LAST-MODIFIED:20260409T122457Z
UID:7722-1775586600-1775590200@ohanacenterav.org
SUMMARY:AV Best Start @ Ohana
DESCRIPTION:
URL:https://ohanacenterav.org/event/av-best-start-ohana/
LOCATION:Ohana Center\, 38700 5th Street West #suite D\, Palmdale\, CA 93550\, Palmdale\, CA\, 93550\, US
ATTACH;FMTTYPE=image/jpeg:https://ohanacenterav.org/wp-content/uploads/2026/04/IMG_1066.jpeg
END:VEVENT
BEGIN:VEVENT
DTSTART;TZID=America/Los_Angeles:20260409T110000
DTEND;TZID=America/Los_Angeles:20260409T133000
DTSTAMP:20260425T085228
CREATED:20260409T122657Z
LAST-MODIFIED:20260409T122657Z
UID:7725-1775732400-1775741400@ohanacenterav.org
SUMMARY:Best Start @ Ohana
DESCRIPTION:
URL:https://ohanacenterav.org/event/best-start-ohana/
LOCATION:Ohana Center\, 38700 5th Street West #suite D\, Palmdale\, CA 93550\, Palmdale\, CA\, 93550\, US
ATTACH;FMTTYPE=image/jpeg:https://ohanacenterav.org/wp-content/uploads/2026/04/IMG_1068.jpeg
END:VEVENT
BEGIN:VEVENT
DTSTART;TZID=America/Los_Angeles:20260410T100000
DTEND;TZID=America/Los_Angeles:20260410T120000
DTSTAMP:20260425T085228
CREATED:20260409T123036Z
LAST-MODIFIED:20260409T123036Z
UID:7728-1775815200-1775822400@ohanacenterav.org
SUMMARY:A Baby is Blossoming
DESCRIPTION:
URL:https://ohanacenterav.org/event/a-baby-is-blossoming/
LOCATION:All For Kids Resource Center\, 525 West Avenue P-4\, Palmdale\, CA\, 93551\, United States
ATTACH;FMTTYPE=image/jpeg:https://ohanacenterav.org/wp-content/uploads/2026/04/IMG_1186.jpg
END:VEVENT
BEGIN:VEVENT
DTSTART;TZID=America/Los_Angeles:20260411T100000
DTEND;TZID=America/Los_Angeles:20260411T130000
DTSTAMP:20260425T085228
CREATED:20260409T154936Z
LAST-MODIFIED:20260409T154936Z
UID:7732-1775901600-1775912400@ohanacenterav.org
SUMMARY:AAIMM  Black Birthing Week Celebration
DESCRIPTION:
URL:https://ohanacenterav.org/event/aaimm-black-birthing-week-celebration/
LOCATION:Ohana Center\, 38700 5th Street West #suite D\, Palmdale\, CA 93550\, Palmdale\, CA\, 93550\, US
ATTACH;FMTTYPE=image/jpeg:https://ohanacenterav.org/wp-content/uploads/2026/04/IMG_1275.jpeg
END:VEVENT
BEGIN:VEVENT
DTSTART;TZID=America/Los_Angeles:20260416T100000
DTEND;TZID=America/Los_Angeles:20260416T120000
DTSTAMP:20260425T085228
CREATED:20260409T164030Z
LAST-MODIFIED:20260409T164122Z
UID:7735-1776333600-1776340800@ohanacenterav.org
SUMMARY:Ohana Center Walk in Office Hours
DESCRIPTION:
URL:https://ohanacenterav.org/event/ohana-center-walk-in-office-hours/
LOCATION:Ohana Center\, 38700 5th Street West #suite D\, Palmdale\, CA 93550\, Palmdale\, CA\, 93550\, US
ATTACH;FMTTYPE=image/jpeg:https://ohanacenterav.org/wp-content/uploads/2026/04/IMG_1348.jpeg
END:VEVENT
BEGIN:VEVENT
DTSTART;TZID=America/Los_Angeles:20260417T170000
DTEND;TZID=America/Los_Angeles:20260417T190000
DTSTAMP:20260425T085228
CREATED:20260412T224043Z
LAST-MODIFIED:20260412T224100Z
UID:7739-1776445200-1776452400@ohanacenterav.org
SUMMARY:Meet the Doula (InDueTime)
DESCRIPTION:
URL:https://ohanacenterav.org/event/meet-the-doula-induetime/
END:VEVENT
BEGIN:VEVENT
DTSTART;TZID=America/Los_Angeles:20260418T100000
DTEND;TZID=America/Los_Angeles:20260418T130000
DTSTAMP:20260425T085228
CREATED:20260412T224343Z
LAST-MODIFIED:20260412T224343Z
UID:7741-1776506400-1776517200@ohanacenterav.org
SUMMARY:AV Autism Picnic & Community Connection
DESCRIPTION:
URL:https://ohanacenterav.org/event/av-autism-picnic-community-connection/
LOCATION:Sgt. Steve Owen Memorial Park\, Lancaster\, CA\, United States
ATTACH;FMTTYPE=image/jpeg:https://ohanacenterav.org/wp-content/uploads/2026/04/4502072222732697718.jpeg
END:VEVENT
BEGIN:VEVENT
DTSTART;TZID=America/Los_Angeles:20260418T120000
DTEND;TZID=America/Los_Angeles:20260418T170000
DTSTAMP:20260425T085228
CREATED:20260412T224827Z
LAST-MODIFIED:20260412T224827Z
UID:7745-1776513600-1776531600@ohanacenterav.org
SUMMARY:Autism Awareness Family Day
DESCRIPTION:
URL:https://ohanacenterav.org/event/autism-awareness-family-day/
LOCATION:The Joseph A. Meekins Prince Hall Masons\, 43843 Division Street\, Lancaster\, PA\, 93535\, United States
ATTACH;FMTTYPE=image/jpeg:https://ohanacenterav.org/wp-content/uploads/2026/04/IMG_1064.jpeg
END:VEVENT
END:VCALENDAR