BEGIN:VCALENDAR
VERSION:2.0
PRODID:-//Ohana Center - Antelope Valley - ECPv6.15.20//NONSGML v1.0//EN
CALSCALE:GREGORIAN
METHOD:PUBLISH
X-WR-CALNAME:Ohana Center - Antelope Valley
X-ORIGINAL-URL:https://ohanacenterav.org
X-WR-CALDESC:Events for Ohana Center - Antelope Valley
REFRESH-INTERVAL;VALUE=DURATION:PT1H
X-Robots-Tag:noindex
X-PUBLISHED-TTL:PT1H
BEGIN:VTIMEZONE
TZID:America/Los_Angeles
BEGIN:DAYLIGHT
TZOFFSETFROM:-0800
TZOFFSETTO:-0700
TZNAME:PDT
DTSTART:20220313T100000
END:DAYLIGHT
BEGIN:STANDARD
TZOFFSETFROM:-0700
TZOFFSETTO:-0800
TZNAME:PST
DTSTART:20221106T090000
END:STANDARD
BEGIN:DAYLIGHT
TZOFFSETFROM:-0800
TZOFFSETTO:-0700
TZNAME:PDT
DTSTART:20230312T100000
END:DAYLIGHT
BEGIN:STANDARD
TZOFFSETFROM:-0700
TZOFFSETTO:-0800
TZNAME:PST
DTSTART:20231105T090000
END:STANDARD
BEGIN:DAYLIGHT
TZOFFSETFROM:-0800
TZOFFSETTO:-0700
TZNAME:PDT
DTSTART:20240310T100000
END:DAYLIGHT
BEGIN:STANDARD
TZOFFSETFROM:-0700
TZOFFSETTO:-0800
TZNAME:PST
DTSTART:20241103T090000
END:STANDARD
BEGIN:DAYLIGHT
TZOFFSETFROM:-0800
TZOFFSETTO:-0700
TZNAME:PDT
DTSTART:20250309T100000
END:DAYLIGHT
BEGIN:STANDARD
TZOFFSETFROM:-0700
TZOFFSETTO:-0800
TZNAME:PST
DTSTART:20251102T090000
END:STANDARD
END:VTIMEZONE
BEGIN:VEVENT
DTSTART;TZID=America/Los_Angeles:20240402T183000
DTEND;TZID=America/Los_Angeles:20240402T193000
DTSTAMP:20260425T090059
CREATED:20240402T160813Z
LAST-MODIFIED:20240402T160813Z
UID:7292-1712082600-1712086200@ohanacenterav.org
SUMMARY:Virtual Chat: Spring Alignment 
DESCRIPTION:Topic: Aligning Goals & Incorporating self love
URL:https://ohanacenterav.org/event/virtual-chat-spring-alignment/
LOCATION:Virtual Event
END:VEVENT
BEGIN:VEVENT
DTSTART;TZID=America/Los_Angeles:20240327T163000
DTEND;TZID=America/Los_Angeles:20240327T183000
DTSTAMP:20260425T090059
CREATED:20240307T183041Z
LAST-MODIFIED:20240307T183106Z
UID:7282-1711557000-1711564200@ohanacenterav.org
SUMMARY:EARTH: NATIONAL DEVELOPMENTAL DISABILITY AWARENESS
DESCRIPTION:“Wellness Wednesday” In-Person\nNational Developmental Disability Awareness\n4:30-5:30 PM  Sensory Art\n5:30- 6:30 PM LoveFit\n(EARTH)
URL:https://ohanacenterav.org/event/earth-national-developmental-disability-awareness/
END:VEVENT
BEGIN:VEVENT
DTSTART;TZID=America/Los_Angeles:20240320T180000
DTEND;TZID=America/Los_Angeles:20240320T190000
DTSTAMP:20260425T090059
CREATED:20240307T182808Z
LAST-MODIFIED:20240307T182808Z
UID:7280-1710957600-1710961200@ohanacenterav.org
SUMMARY:EARTH: VIRTUAL BEGINNERS YOGA WITH AMANDA
DESCRIPTION:Virtual “Wellness Wednesday”\nBeginners Yoga with Amanda\nEARTH Program 
URL:https://ohanacenterav.org/event/earth-virtual-beginners-yoga-with-amanda/
LOCATION:Virtual Event
END:VEVENT
BEGIN:VEVENT
DTSTART;TZID=America/Los_Angeles:20240319T180000
DTEND;TZID=America/Los_Angeles:20240319T193000
DTSTAMP:20260425T090059
CREATED:20240307T182613Z
LAST-MODIFIED:20240307T182613Z
UID:7278-1710871200-1710876600@ohanacenterav.org
SUMMARY:SHARA: "MARCH MADNESS" GARDEN PARTY
DESCRIPTION:SISTERS HEALING AND RISING THROUGH ADVERSITY\nIN-PERSON WELLNESS GROUP\n“MARCH MADNESS” GARDEN PARTY\nNUTRITION RAW COOKING EXPERIENCE
URL:https://ohanacenterav.org/event/shara-march-madness-garden-party/
END:VEVENT
BEGIN:VEVENT
DTSTART;TZID=America/Los_Angeles:20240305T183000
DTEND;TZID=America/Los_Angeles:20240305T193000
DTSTAMP:20260425T090059
CREATED:20240307T182346Z
LAST-MODIFIED:20240307T182346Z
UID:7276-1709663400-1709667000@ohanacenterav.org
SUMMARY:SHARA - "MARCH MADNESS" GOAL SETTING
DESCRIPTION:SISTERS HEALING AND RISING THROUGH ADVERSITY\nVIRTUAL WELLNESS GROUP\n“MARCH MADNESS” GOAL SETTING
URL:https://ohanacenterav.org/event/shara-march-madness-goal-setting/
LOCATION:Virtual Event
END:VEVENT
BEGIN:VEVENT
DTSTART;TZID=America/Los_Angeles:20240213T043000
DTEND;TZID=America/Los_Angeles:20240213T183000
DTSTAMP:20260425T090059
CREATED:20240216T150804Z
LAST-MODIFIED:20240216T150804Z
UID:7270-1707798600-1707849000@ohanacenterav.org
SUMMARY:TEACH & SHARA Program - Galentines Day 
DESCRIPTION:“Special Tribute to Self-Love”\n4:30 – 6:30 PM\nRegistration via
URL:https://ohanacenterav.org/event/teach-shara-program-galentines-day/
END:VEVENT
BEGIN:VEVENT
DTSTART;TZID=America/Los_Angeles:20240208T110000
DTEND;TZID=America/Los_Angeles:20240208T120000
DTSTAMP:20260425T090059
CREATED:20240216T150407Z
LAST-MODIFIED:20240216T150407Z
UID:7268-1707390000-1707393600@ohanacenterav.org
SUMMARY:TEACH Program - Virtual group
DESCRIPTION:TOPIC:  “ How do we make time for ourselves self as parents and caregivers”\nWith Kim Evans
URL:https://ohanacenterav.org/event/teach-program-virtual-group-2/
LOCATION:Virtual Event
END:VEVENT
BEGIN:VEVENT
DTSTART;TZID=America/Los_Angeles:20240207T183000
DTEND;TZID=America/Los_Angeles:20240207T203000
DTSTAMP:20260425T090059
CREATED:20240216T150059Z
LAST-MODIFIED:20240216T150059Z
UID:7265-1707330600-1707337800@ohanacenterav.org
SUMMARY:EARTH Program - Virtual  “Wellness Wednesday” 
DESCRIPTION:TOPIC: VIP Money & Goal Wellness Session 2\nWith Brandi McDaniels
URL:https://ohanacenterav.org/event/earth-program-virtual-wellness-wednesday/
LOCATION:Virtual Event
END:VEVENT
BEGIN:VEVENT
DTSTART;TZID=America/Los_Angeles:20240207T120000
DTEND;TZID=America/Los_Angeles:20240207T130000
DTSTAMP:20260425T090059
CREATED:20240216T145852Z
LAST-MODIFIED:20240216T145852Z
UID:7262-1707307200-1707310800@ohanacenterav.org
SUMMARY:TEACH Program - IEP Essentials
DESCRIPTION:  \n 
URL:https://ohanacenterav.org/event/teach-program-iep-essentials/
LOCATION:NLACRC Family Focus Center\, North LA County Regional Center \, CA\, United States
END:VEVENT
BEGIN:VEVENT
DTSTART;TZID=America/Los_Angeles:20240131T163000
DTEND;TZID=America/Los_Angeles:20240131T183000
DTSTAMP:20260425T090059
CREATED:20240102T215017Z
LAST-MODIFIED:20240102T215146Z
UID:7212-1706718600-1706725800@ohanacenterav.org
SUMMARY:EARTH Program - “Wellness Wednesday”
DESCRIPTION:4:30 – 5:30 PM\n“Celebrating Veganuary”\nFruit & Veggie Art\n5:30 – 6:30 PM\nMusic & Movement\nSurvey participation Gift Cards
URL:https://ohanacenterav.org/event/earth-program-wellness-wednesday-3/
LOCATION:Yucca Neighborhood House
END:VEVENT
BEGIN:VEVENT
DTSTART;TZID=America/Los_Angeles:20240130T180000
DTEND;TZID=America/Los_Angeles:20240130T193000
DTSTAMP:20260425T090100
CREATED:20240102T214536Z
LAST-MODIFIED:20240102T214536Z
UID:7210-1706637600-1706643000@ohanacenterav.org
SUMMARY:SHARA Program - Yucca Neighborhood House 
DESCRIPTION:Sound Bath / New Year Wellness Check-In\n\nThe first 15 to register to receive a participation gift card
URL:https://ohanacenterav.org/event/shara-program-yucca-neighborhood-house/
END:VEVENT
BEGIN:VEVENT
DTSTART;TZID=America/Los_Angeles:20240127T163000
DTEND;TZID=America/Los_Angeles:20240127T183000
DTSTAMP:20260425T090100
CREATED:20240102T213925Z
LAST-MODIFIED:20240102T213925Z
UID:7208-1706373000-1706380200@ohanacenterav.org
SUMMARY:TEACH Program
DESCRIPTION:“Glow Party” Silent Disco\n4:30 – 5:30 PM\nFamily Photos / Glow Art\n5:30 – 6:30 PM\nFamily Games / Silent Disco\nPrivate event for TEACH Families
URL:https://ohanacenterav.org/event/teach-program-012724/
END:VEVENT
BEGIN:VEVENT
DTSTART;TZID=America/Los_Angeles:20240118T130000
DTEND;TZID=America/Los_Angeles:20240118T150000
DTSTAMP:20260425T090100
CREATED:20240102T213206Z
LAST-MODIFIED:20240102T213206Z
UID:7204-1705582800-1705590000@ohanacenterav.org
SUMMARY:EARTH Program - Lancaster Health Home
DESCRIPTION:Wellness Check-In\nCouple/Relationship Chat\nParticipation raffle
URL:https://ohanacenterav.org/event/earth-program-lancaster-health-home-011824/
LOCATION:The City of Lancaster Health Home
END:VEVENT
BEGIN:VEVENT
DTSTART;TZID=America/Los_Angeles:20240117T130000
DTEND;TZID=America/Los_Angeles:20240117T150000
DTSTAMP:20260425T090100
CREATED:20240102T213018Z
LAST-MODIFIED:20240102T213018Z
UID:7202-1705496400-1705503600@ohanacenterav.org
SUMMARY:EARTH Program - Lancaster Health Home
DESCRIPTION:Therapeutic Fun Day\n“Celebrating Veganuary”\nFruit & Veggie Art\nSurvey participation Gift Cards
URL:https://ohanacenterav.org/event/earth-program-lancaster-health-home-011724/
LOCATION:The City of Lancaster Health Home
END:VEVENT
BEGIN:VEVENT
DTSTART;TZID=America/Los_Angeles:20240116T183000
DTEND;TZID=America/Los_Angeles:20240116T193000
DTSTAMP:20260425T090100
CREATED:20240102T213516Z
LAST-MODIFIED:20240102T213516Z
UID:7206-1705429800-1705433400@ohanacenterav.org
SUMMARY:SHARA Program Virtual
DESCRIPTION:6:30 – 7:30 PM\nNew Year Check-In\n“Sisters Healing And Rising Through Adversity“
URL:https://ohanacenterav.org/event/shara-program-virtual-011624/
LOCATION:Virtual Event
END:VEVENT
BEGIN:VEVENT
DTSTART;TZID=America/Los_Angeles:20240110T183000
DTEND;TZID=America/Los_Angeles:20240110T193000
DTSTAMP:20260425T090100
CREATED:20240102T212615Z
LAST-MODIFIED:20240102T212615Z
UID:7200-1704911400-1704915000@ohanacenterav.org
SUMMARY:EARTH Program Virtual Group - Wellness Wednesday
DESCRIPTION:Money Wellness
URL:https://ohanacenterav.org/event/earth-program-virtual-group-011024/
LOCATION:Virtual Event
END:VEVENT
BEGIN:VEVENT
DTSTART;TZID=America/Los_Angeles:20240104T110000
DTEND;TZID=America/Los_Angeles:20240104T120000
DTSTAMP:20260425T090100
CREATED:20240102T212127Z
LAST-MODIFIED:20240102T212127Z
UID:7198-1704366000-1704369600@ohanacenterav.org
SUMMARY:TEACH Program - Virtual Group
DESCRIPTION:New Year Wellness Check-In
URL:https://ohanacenterav.org/event/teach-program-virtual-group-010424/
LOCATION:Virtual Event
END:VEVENT
BEGIN:VEVENT
DTSTART;TZID=America/Los_Angeles:20231117T163000
DTEND;TZID=America/Los_Angeles:20231117T193000
DTSTAMP:20260425T090100
CREATED:20231107T014309Z
LAST-MODIFIED:20231114T010123Z
UID:7178-1700238600-1700249400@ohanacenterav.org
SUMMARY:TEACH Friendsgiving 
DESCRIPTION:Activities/ dinner /giveaways\nPrivate Event
URL:https://ohanacenterav.org/event/teach-friendsgiving/
ATTACH;FMTTYPE=image/jpeg:https://ohanacenterav.org/wp-content/uploads/2023/11/IMG_7162.jpeg
END:VEVENT
BEGIN:VEVENT
DTSTART;TZID=America/Los_Angeles:20231116T130000
DTEND;TZID=America/Los_Angeles:20231116T150000
DTSTAMP:20260425T090100
CREATED:20231107T013442Z
LAST-MODIFIED:20231107T013725Z
UID:7173-1700139600-1700146800@ohanacenterav.org
SUMMARY:Wellness Check-In and Relationship/Couples chat
DESCRIPTION:Join us for a fun and interactive event where you can check-in on your wellness and chat about relationships and couples’ stuff! \nWhether you’re single\, in a relationship\, or somewhere in between\, this event is for you! Come and share your experiences\, learn from others\, and get some valuable insights. It’s a great opportunity to connect with like-minded individuals and build meaningful connections. \nOur friendly and knowledgeable facilitators will guide the discussions and provide helpful tips and advice. So\, bring your questions\, stories\, and open minds! \nDon’t miss out on this chance to prioritize your well-being and gain valuable insights into relationships. Mark your calendars and see you there! \nMUST BE REGISTER TO ATTEND \nPARTICIPANT RAFFLE
URL:https://ohanacenterav.org/event/wellness-check-in-the-city-of-lancaster-home-health/
LOCATION:422 E Landsford St\, 422 East Landsford Street\, Lancaster\, CA 93535\, Lancaster\, CA\, 93535\, US
ATTACH;FMTTYPE=image/jpeg:https://ohanacenterav.org/wp-content/uploads/2023/11/IMG_7001.jpg
END:VEVENT
BEGIN:VEVENT
DTSTART;TZID=America/Los_Angeles:20231116T110000
DTEND;TZID=America/Los_Angeles:20231116T120000
DTSTAMP:20260425T090100
CREATED:20231107T014046Z
LAST-MODIFIED:20231107T014046Z
UID:7176-1700132400-1700136000@ohanacenterav.org
SUMMARY:TEACH Program: Parents/Caregivers Virtual Group 
DESCRIPTION:Topic: Money management
URL:https://ohanacenterav.org/event/teach-program-parents-caregivers-virtual-group/
LOCATION:503 East Avenue Q-3\, 503 East Avenue Q-3\, Palmdale\, CA 93591\, Palmdale\, CA\, 93591\, US
END:VEVENT
BEGIN:VEVENT
DTSTART;TZID=America/Los_Angeles:20231115T183000
DTEND;TZID=America/Los_Angeles:20231115T193000
DTSTAMP:20260425T090100
CREATED:20231107T011523Z
LAST-MODIFIED:20231107T011523Z
UID:7165-1700073000-1700076600@ohanacenterav.org
SUMMARY:Virtual Wellness Wednesday Caregiver Awareness
DESCRIPTION:Caregivers Appreciation Month\nSelf-Care Caregivers presentation with Felicia\nParticipation Raffle\n $10 Survey Participation \n\nJoin us for a special online event dedicated to raising awareness about caregivers! Whether you’re a caregiver yourself or simply interested in learning more\, this event is for you. We’ll be discussing important topics like self-care\, stress management\, and building a support network. Our expert speakers will share valuable insights and practical tips to help you navigate the challenges of caregiving. Don’t miss this opportunity to connect with others\, gain knowledge\, and find inspiration. Mark your calendar for this virtual event and get ready to prioritize your well-being!
URL:https://ohanacenterav.org/event/virtual-wellness-wednesday-caregiver-awareness/
LOCATION:Virtual Event
ATTACH;FMTTYPE=image/jpeg:https://ohanacenterav.org/wp-content/uploads/2023/11/C1DCB5CF-DE60-4399-BA5F-D88D3913BA53.jpg
END:VEVENT
BEGIN:VEVENT
DTSTART;TZID=America/Los_Angeles:20231114T183000
DTEND;TZID=America/Los_Angeles:20231114T193000
DTSTAMP:20260425T090100
CREATED:20231107T012237Z
LAST-MODIFIED:20231107T012237Z
UID:7169-1699986600-1699990200@ohanacenterav.org
SUMMARY:Hermanas que se curan y se levantan a través de la adversidad
DESCRIPTION:Hermanas que se curan y se levantan a través de la adversidad \n¡Únase a nosotros en 503 East Avenue Q3\, Palmdale\, CA\, EE. UU. para un evento conmovedor y empoderador! Esta reunión en persona tiene como objetivo celebrar la hermandad\, la curación y superar la adversidad. Te invitamos a nuestro Friendsgiving donde compartiremos historias\, risas y comida deliciosa. Es una oportunidad perfecta para conectarse con mujeres de ideas afines y encontrar apoyo en un ambiente cálido e inclusivo. Unámonos\, animémonos unas a otras y abracemos el poder de la hermandad. ¡No te pierdas este increíble evento! \nTaller de bienestar presencial\nTemas: amigosdando\nComunicación durante las vacaciones\nActividades / Juegos / Cena \nPresentación de Certificado (Módulo 2) \n\nMindfulness/Yoga- Luna y Sol Yoga\nBienestar femenino: a su debido tiempo\n\nPrimeros 15 en registrarse\nDebe estar registrado para asistir a este evento.
URL:https://ohanacenterav.org/event/hermanas-que-se-curan-y-se-levantan-a-traves-de-la-adversidad/
LOCATION:503 East Avenue Q-3\, 503 East Avenue Q-3\, Palmdale\, CA 93591\, Palmdale\, CA\, 93591\, US
ATTACH;FMTTYPE=image/jpeg:https://ohanacenterav.org/wp-content/uploads/2023/11/1114-2.jpg
END:VEVENT
BEGIN:VEVENT
DTSTART;TZID=America/Los_Angeles:20231114T183000
DTEND;TZID=America/Los_Angeles:20231114T193000
DTSTAMP:20260425T090100
CREATED:20231107T011923Z
LAST-MODIFIED:20231107T011923Z
UID:7167-1699986600-1699990200@ohanacenterav.org
SUMMARY:Sisters Healing and Rising through Adversity: Friendsgiving
DESCRIPTION:Sisters Healing and Rising through Adversity Friendsgiving\n\nCome join us at 503 East Avenue Q3\, Palmdale\, CA\, USA for a heartwarming and empowering event! This in-person gathering is all about celebrating sisterhood\, healing\, and rising above adversity. We invite you to our Friendsgiving where we’ll share stories\, laughter\, and delicious food. It’s a perfect opportunity to connect with like-minded women and find support in a warm and inclusive environment. Let’s come together\, uplift one another\, and embrace the power of sisterhood. Don’t miss out on this incredible event! \n\nIn-Person Wellness Workshop\nTopic: FriendsGiving\nCommunication during the Holiday\n Activities / Games/ Dinner\nCertificate Presentation (Module 2)\n\nMindfulness/Yoga- Luna and Sol Yoga\nFeminine Wellness- In Due Time\n\nFirst 15 to register\nMust be registered to attend this event
URL:https://ohanacenterav.org/event/sisters-healing-and-rising-through-adversity-friendsgiving/
LOCATION:503 East Avenue Q-3\, 503 East Avenue Q-3\, Palmdale\, CA 93591\, Palmdale\, CA\, 93591\, US
ATTACH;FMTTYPE=image/jpeg:https://ohanacenterav.org/wp-content/uploads/2023/11/1114-1.jpg
END:VEVENT
BEGIN:VEVENT
DTSTART;TZID=America/Los_Angeles:20231110T170000
DTEND;TZID=America/Los_Angeles:20231110T200000
DTSTAMP:20260425T090100
CREATED:20231107T010956Z
LAST-MODIFIED:20231107T011028Z
UID:7162-1699635600-1699646400@ohanacenterav.org
SUMMARY:Family Movie Night - Private Event
DESCRIPTION:5:00 PM Meet and Greet\n5:45 PM Movie Time\nPrivate Event
URL:https://ohanacenterav.org/event/family-movie-night-private-event/
LOCATION:Antelope\, Valley Mall\, movie theater
ATTACH;FMTTYPE=image/jpeg:https://ohanacenterav.org/wp-content/uploads/2023/11/IMG_7010.jpeg
END:VEVENT
BEGIN:VEVENT
DTSTART;TZID=America/Los_Angeles:20231108T163000
DTEND;TZID=America/Los_Angeles:20231108T183000
DTSTAMP:20260425T090100
CREATED:20231107T010635Z
LAST-MODIFIED:20231107T010635Z
UID:7160-1699461000-1699468200@ohanacenterav.org
SUMMARY:“Wellness Wednesday” Native American Awareness and LoveFit
DESCRIPTION:“Wellness Wednesday” Native American Awareness and LoveFit\n\nJoin us for a special event that celebrates Native American culture and promotes wellness! “Wellness Wednesday” Native American Awareness and LoveFit \nLight refreshments and raffles will be provided for participants. \nThis in-person event will bring together people from all walks of life to learn\, connect\, and embrace a healthy lifestyle. \n$10 Survey Participation \nArt Session – 4:30-5:30 PM\nLoveFit – 5:30 – 6:30 PM\nParticipation Raffle
URL:https://ohanacenterav.org/event/wellness-wednesday-native-american-awareness-and-lovefit/
LOCATION:503 East Avenue Q-3\, 503 East Avenue Q-3\, Palmdale\, CA 93550\, Palmdale\, CA\, 93550\, US
ATTACH;FMTTYPE=image/jpeg:https://ohanacenterav.org/wp-content/uploads/2023/11/IMG_6845.jpg
END:VEVENT
BEGIN:VEVENT
DTSTART;TZID=America/Los_Angeles:20231107T183000
DTEND;TZID=America/Los_Angeles:20231107T193000
DTSTAMP:20260425T090100
CREATED:20231107T005814Z
LAST-MODIFIED:20231107T005814Z
UID:7158-1699381800-1699385400@ohanacenterav.org
SUMMARY:TALLER DE BIENESTAR VIRTUAL SHARA: Estableciendo límites
DESCRIPTION:Taller Virtual de Bienestar \nGestión de relaciones: establecimiento de límites \nTema: Comunicación durante las vacaciones. \n\nMindfulness/Yoga- Luna y Sol Yoga\nBienestar femenino: a su debido tiempo\n\nÚnase a nosotros en un evento empoderador en línea\, SHARA Sisters Healing and Rising Through Adversity Relationship Management – Estableciendo límites. Esta sesión interactiva se centrará en la importancia de establecer límites en las relaciones\, ayudándole a afrontar situaciones desafiantes con confianza. \nDurante este evento\, obtendrá conocimientos valiosos y herramientas prácticas para establecer límites saludables\, mejorar la comunicación y mejorar su bienestar general. Nuestros oradores expertos compartirán sus experiencias y lo guiarán en un viaje de autodescubrimiento y crecimiento personal. \nYa sea que estés buscando fortalecer tus relaciones\, superar traumas del pasado o simplemente mejorar tu autoestima\, este evento es para ti. No pierda esta oportunidad de conectarse con personas con ideas afines\, aprender de historias inspiradoras y tomar el control de sus relaciones. \n¡Tome su lugar ahora y embárquese en una experiencia transformadora con el evento SHARA Sisters Healing and Rising Through Adversity Relationship Management – Estableciendo límites!
URL:https://ohanacenterav.org/event/shara-virtual-wellness-workshop-setting-boundaries-spanish/
LOCATION:Virtual Event
ATTACH;FMTTYPE=image/jpeg:https://ohanacenterav.org/wp-content/uploads/2023/11/IMG_6998.jpg
END:VEVENT
BEGIN:VEVENT
DTSTART;TZID=America/Los_Angeles:20231107T183000
DTEND;TZID=America/Los_Angeles:20231107T193000
DTSTAMP:20260425T090100
CREATED:20231107T005428Z
LAST-MODIFIED:20231107T005428Z
UID:7147-1699381800-1699385400@ohanacenterav.org
SUMMARY:SHARA VIRTUAL WELLNESS WORKSHOP: Setting Boundaries
DESCRIPTION:Virtual Wellness Workshop\nRelationship management- setting boundaries\nTopic: Communication during the Holidays \n\nMindfulness/Yoga- Luna and Sol Yoga\nFeminine Wellness – In DueTime\n\nJoin us for an empowering online event\, SHARA Sisters Healing and Rising Through Adversity Relationship Management – Setting Boundaries. This interactive session will focus on the importance of setting boundaries in relationships\, helping you navigate challenging situations with confidence. \nDuring this event\, you will gain valuable insights and practical tools to establish healthy boundaries\, improve communication\, and enhance your overall well-being. Our expert speakers will share their experiences and guide you on a journey of self-discovery and personal growth. \nWhether you’re looking to strengthen your relationships\, overcome past traumas\, or simply improve your self-esteem\, this event is for you. Don’t miss this opportunity to connect with like-minded individuals\, learn from inspiring stories\, and take control of your relationships. \nGrab your spot now and embark on a transformative experience with the SHARA Sisters Healing and Rising Through Adversity Relationship Management – Setting Boundaries event!
URL:https://ohanacenterav.org/event/shara-virtual-wellness-workshop-setting-boundaries/
LOCATION:Virtual Event
ATTACH;FMTTYPE=image/jpeg:https://ohanacenterav.org/wp-content/uploads/2023/11/IMG_6844.jpg
END:VEVENT
BEGIN:VEVENT
DTSTART;TZID=America/Los_Angeles:20231028T103000
DTEND;TZID=America/Los_Angeles:20231028T133000
DTSTAMP:20260425T090100
CREATED:20231005T161214Z
LAST-MODIFIED:20231005T161840Z
UID:7138-1698489000-1698499800@ohanacenterav.org
SUMMARY:Maternal Wellness Circle 
DESCRIPTION:Raw-based cooking experience 11:00 AM -12:00 PM\nStretch/Breath Exercises 12:00-12:15 PM\nArt Experience 12:15 PM – 1:30 PM
URL:https://ohanacenterav.org/event/maternal-wellness-circle-2/
END:VEVENT
BEGIN:VEVENT
DTSTART;TZID=America/Los_Angeles:20231025T163000
DTEND;TZID=America/Los_Angeles:20231025T183000
DTSTAMP:20260425T090100
CREATED:20231005T161006Z
LAST-MODIFIED:20231005T161716Z
UID:7134-1698251400-1698258600@ohanacenterav.org
SUMMARY:EARTH Program - Wellness Wednesday 
DESCRIPTION:Breast Cancer Awareness Celebration \npaint party \nYucca Neighborhood House \n4:30-5:30 Paint & Sip ( cold/hot Cider) \n\n5:30-6:30 Lovefit (45 minute dance fitness workout & cooldown with LoveFit affirmations & self-love meditation\nRewards program with giveaways valued at up to $25
URL:https://ohanacenterav.org/event/earth-program-wellness-wednesday-2/
LOCATION:Yucca Neighborhood House
END:VEVENT
BEGIN:VEVENT
DTSTART;TZID=America/Los_Angeles:20231019T110000
DTEND;TZID=America/Los_Angeles:20231019T120000
DTSTAMP:20260425T090100
CREATED:20231005T160719Z
LAST-MODIFIED:20231005T160719Z
UID:7132-1697713200-1697716800@ohanacenterav.org
SUMMARY:SHARA Virtual/In-Person Support Group
DESCRIPTION:Self-Determination with Saniyyah
URL:https://ohanacenterav.org/event/shara-virtual-in-person-support-group/
END:VEVENT
END:VCALENDAR