BEGIN:VCALENDAR
VERSION:2.0
PRODID:-//Ohana Center - Antelope Valley - ECPv6.15.20//NONSGML v1.0//EN
CALSCALE:GREGORIAN
METHOD:PUBLISH
X-WR-CALNAME:Ohana Center - Antelope Valley
X-ORIGINAL-URL:https://ohanacenterav.org
X-WR-CALDESC:Events for Ohana Center - Antelope Valley
REFRESH-INTERVAL;VALUE=DURATION:PT1H
X-Robots-Tag:noindex
X-PUBLISHED-TTL:PT1H
BEGIN:VTIMEZONE
TZID:America/Los_Angeles
BEGIN:DAYLIGHT
TZOFFSETFROM:-0800
TZOFFSETTO:-0700
TZNAME:PDT
DTSTART:20230312T100000
END:DAYLIGHT
BEGIN:STANDARD
TZOFFSETFROM:-0700
TZOFFSETTO:-0800
TZNAME:PST
DTSTART:20231105T090000
END:STANDARD
BEGIN:DAYLIGHT
TZOFFSETFROM:-0800
TZOFFSETTO:-0700
TZNAME:PDT
DTSTART:20240310T100000
END:DAYLIGHT
BEGIN:STANDARD
TZOFFSETFROM:-0700
TZOFFSETTO:-0800
TZNAME:PST
DTSTART:20241103T090000
END:STANDARD
BEGIN:DAYLIGHT
TZOFFSETFROM:-0800
TZOFFSETTO:-0700
TZNAME:PDT
DTSTART:20250309T100000
END:DAYLIGHT
BEGIN:STANDARD
TZOFFSETFROM:-0700
TZOFFSETTO:-0800
TZNAME:PST
DTSTART:20251102T090000
END:STANDARD
END:VTIMEZONE
BEGIN:VEVENT
DTSTART;TZID=America/Los_Angeles:20240831T110000
DTEND;TZID=America/Los_Angeles:20240831T140000
DTSTAMP:20260425T055655
CREATED:20240808T192247Z
LAST-MODIFIED:20240808T192247Z
UID:7391-1725102000-1725112800@ohanacenterav.org
SUMMARY:3rd Annual Black Maternal Alternative Care Alliance Baby Shower
DESCRIPTION:3RD Annual Maternal Wellness Circle\nCommunity Baby Shower\n(Private Event)
URL:https://ohanacenterav.org/event/3rd-annual-black-maternal-alternative-care-alliance-baby-shower/
END:VEVENT
BEGIN:VEVENT
DTSTART;TZID=America/Los_Angeles:20240820T170000
DTEND;TZID=America/Los_Angeles:20240820T183000
DTSTAMP:20260425T055655
CREATED:20240808T192034Z
LAST-MODIFIED:20240808T192034Z
UID:7389-1724173200-1724178600@ohanacenterav.org
SUMMARY:SHARA In-Person Group
DESCRIPTION:SHARA IN-PERSON GROUP\nYucca Neighborhood House
URL:https://ohanacenterav.org/event/shara-in-person-group/
LOCATION:Yucca Neighborhood House\, 503 East Avenue Q-3\, Palmdale\, CA 93550\, Palmdale\, CA\, 93550\, US
END:VEVENT
BEGIN:VEVENT
DTSTART;TZID=America/Los_Angeles:20240806T183000
DTEND;TZID=America/Los_Angeles:20240806T193000
DTSTAMP:20260425T055655
CREATED:20240805T003456Z
LAST-MODIFIED:20240805T003456Z
UID:7386-1722969000-1722972600@ohanacenterav.org
SUMMARY:SHARA Virtual Chat Theme: Chaotic Resolve
DESCRIPTION:Join us for SHARA Virtual Chat: Chaotic Resolve\, where we embrace the chaos and find strength in overcoming challenges together!\n\n\n  SHARA Virtual Chat Theme: Chaotic Resolve \nWelcome to SHARA Virtual Chat Theme: Chaotic Resolve!\nJoin us online for an exciting event filled with discussions\, debates\, and resolutions. Dive into the chaos of different perspectives and find common ground to resolve issues. Connect with like-minded individuals virtually and engage in thought-provoking conversations. \nDon’t miss out on this unique opportunity to broaden your horizons and challenge your beliefs. Embrace the chaos and discover the power of coming together to find solutions. Let’s navigate through the uncertainties and emerge with a sense of resolve. \nGet ready to engage\, interact\, and explore new ideas at SHARA Virtual Chat Theme: Chaotic Resolve!
URL:https://ohanacenterav.org/event/shara-virtual-chat-theme-chaotic-resolve/
LOCATION:Online Event
ATTACH;FMTTYPE=image/jpeg:https://ohanacenterav.org/wp-content/uploads/2024/08/7386_image_original.jpg
END:VEVENT
BEGIN:VEVENT
DTSTART;TZID=America/Los_Angeles:20240723T053000
DTEND;TZID=America/Los_Angeles:20240723T193000
DTSTAMP:20260425T055655
CREATED:20240622T011206Z
LAST-MODIFIED:20240622T014227Z
UID:7366-1721712600-1721763000@ohanacenterav.org
SUMMARY:SHARA In-Person Workshop
DESCRIPTION:Sister Healing and Rising through Adversity SHARA In-Person Workshop\nJuly 23\, 2024 5:30-7:30 PM
URL:https://ohanacenterav.org/event/shara-in-person-workshop/
END:VEVENT
BEGIN:VEVENT
DTSTART;TZID=America/Los_Angeles:20240713T110000
DTEND;TZID=America/Los_Angeles:20240713T130000
DTSTAMP:20260425T055655
CREATED:20240622T011042Z
LAST-MODIFIED:20240622T014148Z
UID:7364-1720868400-1720875600@ohanacenterav.org
SUMMARY:Maternal Wellness Circle In-Person Workshop
DESCRIPTION:Maternal Wellness Circle\nJuly 13\, 2024 In-Person 10:00 AM -1:00 PM\n         Money Wellness-\n         11:00 – 11:30 AM\nRaw Cooking 11:30- 12:15PM\nArt 12:15-1:00 PM
URL:https://ohanacenterav.org/event/maternal-wellness-circle-in-person-workshop/
END:VEVENT
BEGIN:VEVENT
DTSTART;TZID=America/Los_Angeles:20240711T183000
DTEND;TZID=America/Los_Angeles:20240711T193000
DTSTAMP:20260425T055655
CREATED:20240622T010938Z
LAST-MODIFIED:20240622T014056Z
UID:7362-1720722600-1720726200@ohanacenterav.org
SUMMARY:Melanated Boss Mom’s Virtual Workshop
DESCRIPTION:Melanated Boss Mom’s Virtual Workshop \nThursday\, July 11th  6:30-7:30 PM
URL:https://ohanacenterav.org/event/melanated-boss-moms-virtual-workshop/
LOCATION:Virtual Event
END:VEVENT
BEGIN:VEVENT
DTSTART;TZID=America/Los_Angeles:20240709T183000
DTEND;TZID=America/Los_Angeles:20240709T193000
DTSTAMP:20260425T055655
CREATED:20240622T010827Z
LAST-MODIFIED:20240622T013956Z
UID:7360-1720549800-1720553400@ohanacenterav.org
SUMMARY:SHARA Virtual Workshop
DESCRIPTION:Sister Healing and Rising through Adversity SHARA Virtual Workshop\nJuly 9\, 2024 6:30-7:30 PM
URL:https://ohanacenterav.org/event/shara-virtual-workshop/
LOCATION:Virtual Event
END:VEVENT
BEGIN:VEVENT
DTSTART;TZID=America/Los_Angeles:20240626T163000
DTEND;TZID=America/Los_Angeles:20240626T183000
DTSTAMP:20260425T055655
CREATED:20240610T151632Z
LAST-MODIFIED:20240610T151632Z
UID:7345-1719419400-1719426600@ohanacenterav.org
SUMMARY:EARTH Yucca House Summer Fruit\, Veggie\, and Flower Art
DESCRIPTION:Join us at the EARTH Yucca House Summer Fruit\, Veggie\, and Flower Art event for a fun day of creating beautiful art with fresh produce and b\n\n\nEARTH Yucca House Summer Fruit\, Veggie\, and Flower Art \nCome join us at the Yucca Neighborhood House for a fun-filled day of creating art with summer fruits\, veggies\, and flowers! Let your creativity flow as you design beautiful masterpieces using nature’s bounty. This in-person event is perfect for art enthusiasts of all ages. Don’t miss out on this unique opportunity to connect with nature and unleash your artistic side. See you there!
URL:https://ohanacenterav.org/event/earth-yucca-house-summer-fruit-veggie-and-flower-art/
LOCATION:Yucca Neighborhood House\, 503 East Avenue Q-3\, Palmdale\, CA 93550\, Palmdale\, CA\, 93550\, US
ATTACH;FMTTYPE=image/jpeg:https://ohanacenterav.org/wp-content/uploads/2024/06/7345_image.jpg
END:VEVENT
BEGIN:VEVENT
DTSTART;TZID=America/Los_Angeles:20240625T180000
DTEND;TZID=America/Los_Angeles:20240625T193000
DTSTAMP:20260425T055655
CREATED:20240622T010615Z
LAST-MODIFIED:20240622T010615Z
UID:7357-1719338400-1719343800@ohanacenterav.org
SUMMARY:sisters healing\, and rising through adversity Photo shoot & journaling
DESCRIPTION:Come join us for a day of empowerment\, self-expression\, and sisterhood as we capture our strength and resilience through photography and jou\n\n\nWelcome to the Sisters Healing\, and Rising Through Adversity Photo Shoot & Journaling event! Join us at the Yucca Neighborhood House for a day of empowerment and self-expression. This event is all about celebrating the strength and resilience of women. Through photography and journaling\, we will explore our journeys of overcoming challenges and embracing our inner power. Come together with your sisters to support each other and uplift one another. Let’s capture our stories and inspire each other to rise above adversity.  \nCOME DRESSED TO IMPRESS\, HAIR AND MAKE-UP READY \nSee you there!
URL:https://ohanacenterav.org/event/sisters-healing-and-rising-through-adversity-photo-shoot-journaling/
LOCATION:Yucca Neighborhood House\, 503 East Avenue Q-3\, Palmdale\, CA 93550\, Palmdale\, CA\, 93550\, US
ATTACH;FMTTYPE=image/jpeg:https://ohanacenterav.org/wp-content/uploads/2024/06/7357_image.jpg
END:VEVENT
BEGIN:VEVENT
DTSTART;TZID=America/Los_Angeles:20240623T173000
DTEND;TZID=America/Los_Angeles:20240623T193000
DTSTAMP:20260425T055655
CREATED:20240622T010343Z
LAST-MODIFIED:20240622T010343Z
UID:7353-1719163800-1719171000@ohanacenterav.org
SUMMARY:EARTH Program: Ohana Center App Launch Glow Party
DESCRIPTION:Empowerment\, Art\, Resiliency\, Teaching and Healing EARTH Program \nOhana Center App Launch Glow Party
URL:https://ohanacenterav.org/event/earth-program-ohana-center-app-launch-glow-party/
LOCATION:Virtual Event
END:VEVENT
BEGIN:VEVENT
DTSTART;TZID=America/Los_Angeles:20240615T103000
DTEND;TZID=America/Los_Angeles:20240615T130000
DTSTAMP:20260425T055655
CREATED:20240610T151457Z
LAST-MODIFIED:20240610T151457Z
UID:7341-1718447400-1718456400@ohanacenterav.org
SUMMARY:Maternal Wellness Circle (Belly Casting)
DESCRIPTION:Come join us at the Maternal Wellness Circle where we gather to support\, empower\, and uplift each other on our motherhood journey.\n\n\nWelcome to the Maternal Wellness Circle! Join us for a rejuvenating gathering focused on nurturing mothers in a supportive environment. We offer free Art Experience and a Raw Cooking Experience This in-person event will take place at 45534 Gadsden Ave\, where you can connect with other moms\, share experiences\, and learn valuable self-care techniques. Our circle aims to promote mental\, emotional\, and physical well-being for all attendees. Come relax\, unwind\, and prioritize your maternal wellness with us!
URL:https://ohanacenterav.org/event/maternal-wellness-circle-belly-casting/
LOCATION:45534 Gadsden Ave\, 45534 Gadsden Avenue\, Lancaster\, CA 93534\, Lancaster\, CA\, 93534\, US
ATTACH;FMTTYPE=image/jpeg:https://ohanacenterav.org/wp-content/uploads/2024/06/7341_image.jpg
END:VEVENT
BEGIN:VEVENT
DTSTART;TZID=America/Los_Angeles:20240613T183000
DTEND;TZID=America/Los_Angeles:20240613T193000
DTSTAMP:20260425T055655
CREATED:20240610T151400Z
LAST-MODIFIED:20240610T151400Z
UID:7337-1718303400-1718307000@ohanacenterav.org
SUMMARY:Melanated Boss Mom’s Money Wellness Chat
DESCRIPTION:Get ready to chat about all things money and wellness as we celebrate the power of melanated boss moms!\n\n\nWelcome to the Melanated Boss Mom’s Money Wellness Chat! Join us online for a dynamic discussion on all things money-related. Whether you’re a seasoned entrepreneur or just starting out\, this event is perfect for all boss moms looking to level up their financial game.  Don’t miss out on this opportunity to connect with like-minded boss moms and empower yourself financially. See you there!
URL:https://ohanacenterav.org/event/melanated-boss-moms-money-wellness-chat/
LOCATION:Online Event
ATTACH;FMTTYPE=image/jpeg:https://ohanacenterav.org/wp-content/uploads/2024/06/7337_image.jpg
END:VEVENT
BEGIN:VEVENT
DTSTART;TZID=America/Los_Angeles:20240612T180000
DTEND;TZID=America/Los_Angeles:20240612T190000
DTSTAMP:20260425T055655
CREATED:20240610T151312Z
LAST-MODIFIED:20240610T151312Z
UID:7334-1718215200-1718218800@ohanacenterav.org
SUMMARY:Yoga with Amanda
DESCRIPTION:Join us for a relaxing online yoga session with Amanda\, where we’ll stretch\, breathe\, and find our zen together!\n\n\nYoga with Amanda \nJoin us for a rejuvenating online yoga session with the amazing Amanda! Whether you’re a seasoned yogi or new to the practice\, Amanda’s classes are suitable for all levels. Get ready to stretch\, breathe\, and find your inner zen from the comfort of your own home. Don’t miss out on this opportunity to relax and unwind with a supportive community of fellow yogis. Grab your mat\, water bottle\, and get ready to flow with Amanda!
URL:https://ohanacenterav.org/event/yoga-with-amanda-2/
LOCATION:Online Event
ATTACH;FMTTYPE=image/jpeg:https://ohanacenterav.org/wp-content/uploads/2024/06/7334_image_original.jpg
END:VEVENT
BEGIN:VEVENT
DTSTART;TZID=America/Los_Angeles:20240611T183000
DTEND;TZID=America/Los_Angeles:20240611T193000
DTSTAMP:20260425T055655
CREATED:20240610T151220Z
LAST-MODIFIED:20240610T151220Z
UID:7331-1718130600-1718134200@ohanacenterav.org
SUMMARY:Sister Healing and Rising Through Adversity ( Blossoming into June)
DESCRIPTION:Join us online for Sister Healing and Rising Through Adversity (Blossoming into June)\, a gathering to support each other in growth and resil\n\n\nWelcome to Sister Healing and Rising Through Adversity (Blossoming into June) event! Join us online for a transformative experience where we come together as sisters to heal\, grow\, and flourish. This event is a safe space for women to share their stories\, connect with one another\, and empower one another. Let’s support each other in overcoming challenges and blossoming into our true selves. Mark your calendar and get ready for a day of inspiration\, healing\, and sisterhood!
URL:https://ohanacenterav.org/event/sister-healing-and-rising-through-adversity-blossoming-into-june/
LOCATION:Online Event
ATTACH;FMTTYPE=image/jpeg:https://ohanacenterav.org/wp-content/uploads/2024/06/7331_image.jpg
END:VEVENT
BEGIN:VEVENT
DTSTART;TZID=America/Los_Angeles:20240529T163000
DTEND;TZID=America/Los_Angeles:20240529T183000
DTSTAMP:20260425T055655
CREATED:20240506T181113Z
LAST-MODIFIED:20240506T181113Z
UID:7325-1717000200-1717007400@ohanacenterav.org
SUMMARY:EARTH "Wellness Wednesday" National “Alligator Day” Paint Party
DESCRIPTION:Let’s celebrate Earth and Alligator Day with a fun paint party for Wellness Wednesday!\n\n\nEARTH “Wellness Wednesday” National “Alligator Day” Paint party \nCome join us at the Yucca Neighborhood House for a fun-filled paint party celebrating National “Alligator Day”! \n Native American traditions\, the alligator is considered a spirit animal that represents strength\, protection\, rebirth\, adaptability\, patience\, balance\, and wisdom. \nLet your creativity flow as you paint your own masterpiece while enjoying the company of fellow art enthusiasts. This event is the perfect way to unwind and destress in a welcoming environment. Don’t miss out on this opportunity to connect with nature and your artistic side!
URL:https://ohanacenterav.org/event/earth-wellness-wednesday-national-alligator-day-paint-party/
LOCATION:Yucca Neighborhood House\, 503 East Avenue Q-3\, Palmdale\, CA 93550\, Palmdale\, CA\, 93550\, US
ATTACH;FMTTYPE=image/jpeg:https://ohanacenterav.org/wp-content/uploads/2024/05/7325_image_original.jpg
END:VEVENT
BEGIN:VEVENT
DTSTART;TZID=America/Los_Angeles:20240528T183000
DTEND;TZID=America/Los_Angeles:20240528T193000
DTSTAMP:20260425T055655
CREATED:20240506T181356Z
LAST-MODIFIED:20240506T181356Z
UID:7328-1716921000-1716924600@ohanacenterav.org
SUMMARY:SHARA: Coping With Depression
DESCRIPTION:SHARA Sisters Healing\, and Rising through Adversity\nMAY 28\, 2024\nVirtual 6:30 – 7:30 PM\n\nMental health awareness month\nCoping with Depression
URL:https://ohanacenterav.org/event/shara-coping-with-depression/
LOCATION:Virtual Event
END:VEVENT
BEGIN:VEVENT
DTSTART;TZID=America/Los_Angeles:20240518T110000
DTEND;TZID=America/Los_Angeles:20240518T130000
DTSTAMP:20260425T055655
CREATED:20240506T181027Z
LAST-MODIFIED:20240506T181027Z
UID:7321-1716030000-1716037200@ohanacenterav.org
SUMMARY:Maternal Wellness Circle support group
DESCRIPTION:Come join our Maternal Wellness Circle support group for a safe space to share\, connect\, and uplift each other on our motherhood journey!\n\n\nWelcome to the Maternal Wellness Circle support group! \nCome join us at Yucca Neighborhood House for a nurturing and supportive space where Black Birthers can connect\, share\, and uplift each other. Whether you’re a new mom\, experienced mom\, or mom-to-be\, this group is here to provide a listening ear\, helpful resources\, and a sense of community. \nOur circle focuses on maternal wellness in all its forms – physical\, emotional\, and mental. We believe that taking care of yourself is essential to taking care of your little ones. So\, come as you are\, and engaging in an Art and Raw cooking experience. \nLet’s laugh\, and storytelling over food and creativity and lean on each other during this beautiful and challenging journey of motherhood. We can’t wait to meet you!
URL:https://ohanacenterav.org/event/maternal-wellness-circle-support-group/
LOCATION:Yucca Neighborhood House\, 503 East Avenue Q-3\, Palmdale\, CA 93550\, Palmdale\, CA\, 93550\, US
ATTACH;FMTTYPE=image/jpeg:https://ohanacenterav.org/wp-content/uploads/2024/05/7321_image.jpg
END:VEVENT
BEGIN:VEVENT
DTSTART;TZID=America/Los_Angeles:20240516T183000
DTEND;TZID=America/Los_Angeles:20240612T193000
DTSTAMP:20260425T055655
CREATED:20240506T180951Z
LAST-MODIFIED:20240506T180951Z
UID:7317-1715884200-1718220600@ohanacenterav.org
SUMMARY:Melanated Boss Mom‘s Circle (Mamas-to-be) Session 1
DESCRIPTION:Come join us in where we celebrate your pregnancy with\, support\, and empower each other in our journey of motherhood and entrepreneurship\n\n\nWelcome to the Melanated Boss Mom’s Circle! This online event allows melanin-rich mamas-to-be to unite\, support each other\, and share experiences. Join us for empowering conversations\, networking opportunities\, money wellness\, and a sense of community. Whether you’re a new mom or a seasoned pro\, this circle is here for you. Let’s uplift\, inspire\, and connect. I can’t wait to see you there!
URL:https://ohanacenterav.org/event/melanated-boss-moms-circle-mamas-to-be-session-1/
LOCATION:Online Event
ATTACH;FMTTYPE=image/jpeg:https://ohanacenterav.org/wp-content/uploads/2024/05/7317_image.jpg
END:VEVENT
BEGIN:VEVENT
DTSTART;TZID=America/Los_Angeles:20240515T180000
DTEND;TZID=America/Los_Angeles:20240515T190000
DTSTAMP:20260425T055655
CREATED:20240506T180857Z
LAST-MODIFIED:20240506T180857Z
UID:7314-1715796000-1715799600@ohanacenterav.org
SUMMARY:YOGA With Amanda
DESCRIPTION:Join me for a relaxing online yoga session with Amanda\, where we will stretch\, breathe\, and find our inner peace together!\n\n\nYOGA With Amanda \nHey there\, yogis! Join us for a rejuvenating online yoga session with the amazing Amanda. Whether you’re a beginner or a seasoned pro\, Amanda’s classes are suitable for all levels. Get ready to stretch\, breathe\, and find your inner zen from the comfort of your own home. Don’t miss out on this opportunity to improve your flexibility\, strength\, and overall well-being. Grab your mat\, water bottle\, and comfy clothes\, and let’s flow together with Amanda!
URL:https://ohanacenterav.org/event/yoga-with-amanda/
LOCATION:Online Event
ATTACH;FMTTYPE=image/jpeg:https://ohanacenterav.org/wp-content/uploads/2024/05/7314_image_original.jpg
END:VEVENT
BEGIN:VEVENT
DTSTART;TZID=America/Los_Angeles:20240507T163000
DTEND;TZID=America/Los_Angeles:20240507T180000
DTSTAMP:20260425T055655
CREATED:20240506T180752Z
LAST-MODIFIED:20240506T180752Z
UID:7310-1715099400-1715104800@ohanacenterav.org
SUMMARY:SHARA Wellness Walk Coping with Anxiety
DESCRIPTION:Join us for a relaxing walk where we’ll share tips and tricks for managing anxiety in a supportive and positive environment!\n\n\nJoin us for the SHARA Wellness Walk Coping with Anxiety! \nDate: May 7\, 2024 \nTime:  \n4:30-5:00 PM Welcome Stretch/ Care Plan \n5:00- 5:45 PM Wellness Walk/Scan \n5:45-6:00 PM Cooldown Affirmation  Stretch / Care Plan \n \nLocation: Prime Desert Woodland Preserve \nAre you looking for ways to manage anxiety and improve your mental well-being? Come walk with us through the serene trails of the Preserve and learn coping strategies to help you navigate through stressful times. This event is a great opportunity to connect with others and take a step towards a healthier mind. Don’t miss out on this chance to prioritize your mental wellness!
URL:https://ohanacenterav.org/event/shara-wellness-walk-coping-with-anxiety/
LOCATION:Prime Desert Woodland Preserve\, 43201 35th St W\, Lancaster\, CA\, 93536\, United States
ATTACH;FMTTYPE=image/png:https://ohanacenterav.org/wp-content/uploads/2024/05/7310_image.png
END:VEVENT
BEGIN:VEVENT
DTSTART;TZID=America/Los_Angeles:20240424T163000
DTEND;TZID=America/Los_Angeles:20240424T183000
DTSTAMP:20260425T055655
CREATED:20240402T161804Z
LAST-MODIFIED:20240402T161804Z
UID:7302-1713976200-1713983400@ohanacenterav.org
SUMMARY:“Wellness Wednesday” - Art w/ Lindsey
DESCRIPTION:Yucca Neighborhood House\n\n4:30-5:30 PM  – Resiliency Paint & for Sip & Snack\n5:30-6:30 PM – Love Fit
URL:https://ohanacenterav.org/event/wellness-wednesday-art-w-lindsey/
LOCATION:Yucca Neighborhood House
END:VEVENT
BEGIN:VEVENT
DTSTART;TZID=America/Los_Angeles:20240417T180000
DTEND;TZID=America/Los_Angeles:20240417T190000
DTSTAMP:20260425T055655
CREATED:20240402T161411Z
LAST-MODIFIED:20240402T161411Z
UID:7300-1713376800-1713380400@ohanacenterav.org
SUMMARY:Virtual  “Wellness Wednesday” - Yoga w/Amanda 
DESCRIPTION:
URL:https://ohanacenterav.org/event/virtual-wellness-wednesday-yoga-w-amanda/
END:VEVENT
BEGIN:VEVENT
DTSTART;TZID=America/Los_Angeles:20240414T110000
DTEND;TZID=America/Los_Angeles:20240414T123000
DTSTAMP:20260425T055655
CREATED:20240402T161233Z
LAST-MODIFIED:20240402T161246Z
UID:7296-1713092400-1713097800@ohanacenterav.org
SUMMARY:Wellness Walk - Field Trip (Outing)
DESCRIPTION:
URL:https://ohanacenterav.org/event/wellness-walk-field-trip-outing/
LOCATION:Apollo Park\, CA\, United States
END:VEVENT
BEGIN:VEVENT
DTSTART;TZID=America/Los_Angeles:20240410T183000
DTEND;TZID=America/Los_Angeles:20240410T193000
DTSTAMP:20260425T055655
CREATED:20240402T161013Z
LAST-MODIFIED:20240402T161013Z
UID:7294-1712773800-1712777400@ohanacenterav.org
SUMMARY:Virtual “Wellness Wednesday”
DESCRIPTION:VIP Money & Goal Wellness\nTopic: Goal Setting Workshop w/Brandi
URL:https://ohanacenterav.org/event/virtual-wellness-wednesday/
LOCATION:Virtual Event
END:VEVENT
BEGIN:VEVENT
DTSTART;TZID=America/Los_Angeles:20240402T183000
DTEND;TZID=America/Los_Angeles:20240402T193000
DTSTAMP:20260425T055655
CREATED:20240402T160813Z
LAST-MODIFIED:20240402T160813Z
UID:7292-1712082600-1712086200@ohanacenterav.org
SUMMARY:Virtual Chat: Spring Alignment 
DESCRIPTION:Topic: Aligning Goals & Incorporating self love
URL:https://ohanacenterav.org/event/virtual-chat-spring-alignment/
LOCATION:Virtual Event
END:VEVENT
BEGIN:VEVENT
DTSTART;TZID=America/Los_Angeles:20240327T163000
DTEND;TZID=America/Los_Angeles:20240327T183000
DTSTAMP:20260425T055655
CREATED:20240307T183041Z
LAST-MODIFIED:20240307T183106Z
UID:7282-1711557000-1711564200@ohanacenterav.org
SUMMARY:EARTH: NATIONAL DEVELOPMENTAL DISABILITY AWARENESS
DESCRIPTION:“Wellness Wednesday” In-Person\nNational Developmental Disability Awareness\n4:30-5:30 PM  Sensory Art\n5:30- 6:30 PM LoveFit\n(EARTH)
URL:https://ohanacenterav.org/event/earth-national-developmental-disability-awareness/
END:VEVENT
BEGIN:VEVENT
DTSTART;TZID=America/Los_Angeles:20240320T180000
DTEND;TZID=America/Los_Angeles:20240320T190000
DTSTAMP:20260425T055655
CREATED:20240307T182808Z
LAST-MODIFIED:20240307T182808Z
UID:7280-1710957600-1710961200@ohanacenterav.org
SUMMARY:EARTH: VIRTUAL BEGINNERS YOGA WITH AMANDA
DESCRIPTION:Virtual “Wellness Wednesday”\nBeginners Yoga with Amanda\nEARTH Program 
URL:https://ohanacenterav.org/event/earth-virtual-beginners-yoga-with-amanda/
LOCATION:Virtual Event
END:VEVENT
BEGIN:VEVENT
DTSTART;TZID=America/Los_Angeles:20240319T180000
DTEND;TZID=America/Los_Angeles:20240319T193000
DTSTAMP:20260425T055655
CREATED:20240307T182613Z
LAST-MODIFIED:20240307T182613Z
UID:7278-1710871200-1710876600@ohanacenterav.org
SUMMARY:SHARA: "MARCH MADNESS" GARDEN PARTY
DESCRIPTION:SISTERS HEALING AND RISING THROUGH ADVERSITY\nIN-PERSON WELLNESS GROUP\n“MARCH MADNESS” GARDEN PARTY\nNUTRITION RAW COOKING EXPERIENCE
URL:https://ohanacenterav.org/event/shara-march-madness-garden-party/
END:VEVENT
BEGIN:VEVENT
DTSTART;TZID=America/Los_Angeles:20240305T183000
DTEND;TZID=America/Los_Angeles:20240305T193000
DTSTAMP:20260425T055655
CREATED:20240307T182346Z
LAST-MODIFIED:20240307T182346Z
UID:7276-1709663400-1709667000@ohanacenterav.org
SUMMARY:SHARA - "MARCH MADNESS" GOAL SETTING
DESCRIPTION:SISTERS HEALING AND RISING THROUGH ADVERSITY\nVIRTUAL WELLNESS GROUP\n“MARCH MADNESS” GOAL SETTING
URL:https://ohanacenterav.org/event/shara-march-madness-goal-setting/
LOCATION:Virtual Event
END:VEVENT
BEGIN:VEVENT
DTSTART;TZID=America/Los_Angeles:20240213T043000
DTEND;TZID=America/Los_Angeles:20240213T183000
DTSTAMP:20260425T055655
CREATED:20240216T150804Z
LAST-MODIFIED:20240216T150804Z
UID:7270-1707798600-1707849000@ohanacenterav.org
SUMMARY:TEACH & SHARA Program - Galentines Day 
DESCRIPTION:“Special Tribute to Self-Love”\n4:30 – 6:30 PM\nRegistration via
URL:https://ohanacenterav.org/event/teach-shara-program-galentines-day/
END:VEVENT
END:VCALENDAR