BEGIN:VCALENDAR
VERSION:2.0
PRODID:-//Ohana Center - Antelope Valley - ECPv6.15.20//NONSGML v1.0//EN
CALSCALE:GREGORIAN
METHOD:PUBLISH
X-WR-CALNAME:Ohana Center - Antelope Valley
X-ORIGINAL-URL:https://ohanacenterav.org
X-WR-CALDESC:Events for Ohana Center - Antelope Valley
REFRESH-INTERVAL;VALUE=DURATION:PT1H
X-Robots-Tag:noindex
X-PUBLISHED-TTL:PT1H
BEGIN:VTIMEZONE
TZID:America/Los_Angeles
BEGIN:DAYLIGHT
TZOFFSETFROM:-0800
TZOFFSETTO:-0700
TZNAME:PDT
DTSTART:20230312T100000
END:DAYLIGHT
BEGIN:STANDARD
TZOFFSETFROM:-0700
TZOFFSETTO:-0800
TZNAME:PST
DTSTART:20231105T090000
END:STANDARD
BEGIN:DAYLIGHT
TZOFFSETFROM:-0800
TZOFFSETTO:-0700
TZNAME:PDT
DTSTART:20240310T100000
END:DAYLIGHT
BEGIN:STANDARD
TZOFFSETFROM:-0700
TZOFFSETTO:-0800
TZNAME:PST
DTSTART:20241103T090000
END:STANDARD
BEGIN:DAYLIGHT
TZOFFSETFROM:-0800
TZOFFSETTO:-0700
TZNAME:PDT
DTSTART:20250309T100000
END:DAYLIGHT
BEGIN:STANDARD
TZOFFSETFROM:-0700
TZOFFSETTO:-0800
TZNAME:PST
DTSTART:20251102T090000
END:STANDARD
END:VTIMEZONE
BEGIN:VEVENT
DTSTART;TZID=America/Los_Angeles:20241109T110000
DTEND;TZID=America/Los_Angeles:20241109T130000
DTSTAMP:20260425T211454
CREATED:20241008T172001Z
LAST-MODIFIED:20241008T172001Z
UID:7411-1731150000-1731157200@ohanacenterav.org
SUMMARY:SHARA Job Readiness Event
DESCRIPTION:Get ready to boost your job skills at the SHARA Job Readiness Event – we’ve got all the tips and tricks you need to land your dream job!\n\n\nSHARA Job Readiness Event \nSHARA Job Readiness Event\nWelcome to the SHARA Job Readiness Event! Are you ready to take your career to the next level? Join us for a day filled with Resume\, Communicatio\, and Goal setting workshops\, networking opportunities\, and expert advice to help you land your dream job. Don’t miss out on this chance to boost your **job readiness** and stand out to potential employers. Whether you’re a recent graduate or looking to make a career change\, this event is perfect for anyone wanting to enhance their **professional skills**. Come prepared to learn\, connect\, and grow your career!
URL:https://ohanacenterav.org/event/shara-job-readiness-event/
LOCATION:PA
ATTACH;FMTTYPE=image/jpeg:https://ohanacenterav.org/wp-content/uploads/2024/10/7411_image_original.jpg
END:VEVENT
END:VCALENDAR